{"text_format":"1","workbook":"xlsx","n_sheets":6,"sheets":["NRW","BaWü","Bayern","Offense Leaders","Pitching","Pitching Leaders"],"not_rendered":{"charts":0,"images":0,"macros":1,"external_links":0,"defined_names":2,"comments":0,"pivot_tables":0},"unopened":[],"bounds":{"document_bytes":16777216,"sheet_cells":100000,"rows_first":2000,"rows_last":500,"rows_between":2000,"halvings":0,"cell_chars":16384,"cell_head_chars":4096},"cells_cut":0,"cells_raw":0,"read":"whole","date_system":"1900"}

{"sheet":"NRW","index":0,"n_rows":83,"n_cols":22,"rows_kept":83,"cut":false,"hidden":false,"merged":[[0,3,0,17],[0,19,0,21]]}
[null,null,null,"Offense",null,null,null,null,null,null,null,null,null,null,null,null,null,null,null,"Defense"]
["ID","Spieler","Gegner","PA","AB","R","RBI","H","2B","3B","HR","K","BB","HP","SB","CS","SH","SF",null,"A","PO","E"]
[1,"Dunford","BaWü",4,3,2,3,2,null,1,null,null,1]
[null,null,"BaWü",4,4,2,2,2,1]
[null,null,"Bayern",3,3,1,null,2]
[null,null,"Finale",4,3,2,null,null,null,null,null,null,1]
[]
[2,"Parpart","BaWü",4,2,1,null,null,null,null,null,2,2,null,1]
[null,null,"BaWü",4,1,3,null,1,null,1,null,null,3]
[null,null,"Bayern",3,1,null,null,null,null,null,null,1,2,null,1]
[null,null,"Finale",4,3,1,null,2,null,null,null,1,null,null,2]
[]
[3,"Weyer","BaWü",4,4,1,2,2,null,null,null,1,null,null,2,1]
[null,null,"BaWü",4,4,2,2,2,null,1,null,null,null,null,1]
[null,null,"Bayern",3,2,null,null,null,null,null,null,1,1]
[null,null,"Finale",4,4,2,2,2]
[]
[4,"Elstermeier, J","BaWü",4,2,4,null,null,null,null,null,null,2,null,2]
[null,null,"BaWü",2,1,null,null,null,null,null,null,1,1]
[null,null,"Bayern",2,1,null,null,null,null,null,null,1,1,null,1]
[null,null,"Finale",2,2]
[]
[5,"Greven","BaWü",3,3,null,null,null,null,null,null,null,null,null,1]
[null,null,"BaWü",4,null,4,null,null,null,null,null,null,3,1,1]
[null,null,"Finale",4,2,null,null,null,null,null,null,null,2]
[]
[]
[6,"Lankhorst","BaWü",3,1,null,1,null,null,null,null,1,null,1,null,null,null,1]
[null,null,"BaWü",2,1,null,null,null,null,null,null,null,1]
[null,null,"Bayern",3,3,null,1,null,null,null,null,2]
[null,null,"Finale",4,3,null,null,null,null,null,null,null,null,null,null,null,1]
[]
[7,"Elstermeier, S","BaWü",3,2,null,null,null,null,null,null,2,1]
[null,null,"BaWü",4,1,3,null,null,null,null,null,1,3,null,1]
[null,null,"Bayern",3,2,1,1,1,null,null,null,1,1]
[null,null,"Finale",4,2,null,1,null,null,null,null,null,1,null,null,null,1]
[]
[8,"Kessler","BaWü",1,1]
[null,null,"BaWü",4,3,1,2,1,null,null,null,2,1]
[]
[]
[]
[9,"Lucera","BaWü",2,1,null,null,null,null,null,null,null,null,1]
[null,null,"Bayern",3,1,1,null,null,null,null,null,null,2,null,2]
[null,null,"Finale",2,2]
[]
[]
[10,"Brockmeier","BaWü",3,2,1,null,null,null,null,null,null,1,null,2]
[null,null,"BaWü",3,2,2,1,null,null,null,null,null,1,null,2]
[null,null,"Bayern",1,1]
[null,null,"Finale",4,4]
[]
[11,"Prellwitz","BaWü",null,null,1]
[]
[]
[]
[]
[12,"Hager","BaWü",4,1,1,null,null,null,null,null,1,3,null,1]
[null,null,"Bayern",1,1]
[]
[]
[]
[13,"Wahlen","Bayern",3,1,1,1,null,null,null,null,null,2,null,1]
[]
[]
[]
[]
[14]
[]
[]
[]
[]
[15]
[]
[]
[]
[]
[16]
[]
[]
[]
[]
[17]

{"sheet":"BaWü","index":1,"n_rows":83,"n_cols":22,"rows_kept":83,"cut":false,"hidden":false,"merged":[[0,3,0,17],[0,19,0,21]]}
[null,null,null,"Offense",null,null,null,null,null,null,null,null,null,null,null,null,null,null,null,"Defense"]
["ID","Spieler","Gegner","PA","AB","R","RBI","H","2B","3B","HR","K","BB","HP","SB","CS","SH","SF",null,"A","PO","E"]
[21,"Schmiedel","NRW",4,3,null,null,null,null,null,null,2,1]
[null,null,"Bayern",3,null,1,null,null,null,null,null,null,1,1,2,1,1]
[null,null,"NRW",3,3,1,null,1,null,null,null,null,null,null,1]
[]
[]
[22,"Bucher","NRW",4,3,null,null,1,null,1,null,1,1,null,1]
[null,null,"Bayner",3,3,1,null,1,null,null,null,1,null,null,1]
[null,null,"NRW",3,2,2,null,1,null,null,null,null,null,1,3]
[]
[]
[23,"Weil","NRW",4,3,null,null,null,null,null,null,null,null,1]
[null,null,"Bayern",3,3]
[null,null,"NRW",3,2,1,1,1,null,null,null,null,1,null,1]
[]
[]
[24,"Beigel","NRW",3,2,null,null,null,null,null,null,1,null,null,1,null,1]
[null,null,"Bayern",3,2,null,2,1,1,null,null,1,1,null,2]
[null,null,"NRW",3,1,null,1,1,null,null,null,null,1,null,null,1,1]
[]
[]
[25,"Freis","NRW",3,3,null,null,1,null,null,null,1]
[null,null,"Bayner",3,2,null,null,1,null,null,null,null,1,null,2,1]
[null,null,"NRW",3,2,1,1,null,null,null,null,null,1]
[]
[]
[26,"Kortenkamp","NRW",3,3,null,null,null,null,null,null,1]
[null,null,"Bayern",2,2,null,null,null,null,null,null,2]
[null,null,"NRW",3,2,null,1,null,null,null,null,1,1]
[]
[]
[27,"Lübken","NRW",3,3,null,null,1,null,null,null,1]
[null,null,"Bayern",2,2,null,null,null,null,null,null,1]
[null,null,"NRW",3,2,2,1,2,null,null,null,null,1]
[]
[]
[28,"Apel","NRW",1,1,null,null,null,null,null,null,1]
[null,null,"Bayern",2,null,null,null,null,null,null,null,null,2,null,null,1]
[null,null,"NRW",1,null,null,null,null,null,null,null,null,1]
[]
[]
[29,"Gröschel","NRW",2,2]
[null,null,"Bayern",2,1,null,null,null,null,null,null,null,1]
[]
[]
[]
[30,"Raupricht","NRW",3,3,null,null,null,null,null,null,1]
[null,null,"NRW",3,3,1,null,1,null,null,null,null,null,null,1]
[]
[]
[]
[31,"Bär","Bayern",null,null,1]
[]
[]
[]
[]
[32,"Kutschera","Bayern",1,1,null,null,null,null,null,null,1]
[]
[]
[]
[]
[33,"Eisinger","RW",2,null,null,null,null,null,null,null,null,2]
[]
[]
[]
[]
[34]
[]
[]
[]
[]
[35]
[]
[]
[]
[]
[36]
[]
[]
[]
[]
[37]

{"sheet":"Bayern","index":2,"n_rows":83,"n_cols":22,"rows_kept":83,"cut":false,"hidden":false,"merged":[[0,3,0,17],[0,19,0,21]]}
[null,null,null,"Offense",null,null,null,null,null,null,null,null,null,null,null,null,null,null,null,"Defense"]
["ID","Spieler","Gegner","PA","AB","R","RBI","H","2B","3B","HR","K","BB","HP","SB","CS","SH","SF",null,"A","PO","E"]
[41,"Ullmann","BaWü",4,2,1,null,1,null,null,null,null,2,null,1,1]
[null,null,"NRW",4,2,3,1,1,null,null,null,null,2,null,2]
[null,null,"Finale",5,2,1,null,null,null,null,null,null,3]
[]
[]
[42,"Distler","BaWü",4,1,2,null,1,null,null,null,null,3,null,2,1]
[null,null,"NRW",4,2,1,1,null,null,null,null,1,null,null,null,null,2]
[null,null,"Finale",5,3,null,3,1,1,null,null,null,1,null,null,null,1]
[]
[]
[43,"Schnirch","BaWü",4,3,1,null,null,null,null,null,1,1]
[null,null,"Finale"]
[]
[]
[]
[44,"Stepniak","BaWü",3,1,1,null,null,null,null,null,null,2,null,1]
[null,null,"NRW",4,2,2,null,1,null,null,null,null,2,null,2]
[null,null,"Finale",4,4,2,null,1]
[]
[]
[45,"Sandner","BaWü",1,null,null,1,null,null,null,null,null,1]
[null,null,"NRW",3,2,null,1,null,null,null,null,null,1]
[null,null,"Finale",4,2,2,null,1,1,null,null,null,2]
[]
[]
[46,"Kerscher","BaWü",4,2,1,null,null,null,null,null,1,1,null,null,null,1]
[null,null,"NRW",4,3,null,null,1,null,null,null,null,1,null,1]
[]
[]
[]
[47,"Spengler","BaWü",3,2,1,null,null,null,null,null,1,1]
[null,null,"NRW",3,2,null,null,null,null,null,null,null,1]
[null,null,"Finale",4,1,1,1,1,null,null,null,null,2,1]
[]
[]
[48,"Eiting","BaWü",1,1,null,null,null,null,null,null,1]
[null,null,"Finale",4,3,1,null,1,null,null,null,2,1]
[]
[]
[]
[49,"Salomon","BaWü",3,null,1,2,null,null,null,null,null,2,null,null,null,null,1]
[null,null,"NRW",4,null,2,2,null,null,null,null,null,1,1,null,null,2]
[null,null,"Finale",5,3,1,1,null,null,null,null,null,2]
[]
[]
[50,"Zimmermann","BaWü",3,2,1,1,null,null,null,null,1,1]
[null,null,"NRW",3,3,1,null,1,null,null,null,null,null,null,1]
[null,null,"Finale",5,3,1,null,null,null,null,null,1,2]
[]
[]
[51,"Discherl","BaWü",3,2,1,1,null,null,null,null,1,1]
[null,null,"NRW"]
[null,null,"Finale"]
[]
[]
[52,"Brosch","BaWü",3,2,1,2,1,1,null,null,null,1,null,1]
[null,null,"Finale",3,3]
[]
[]
[]
[53,"Santa Cruz","NRW",1,1,null,2,1]
[]
[]
[]
[]
[54,"Reinisch","NRW",3,null,2,null,null,null,null,null,null,3]
[null,null,"Finale",2,2,1,null,1,null,null,null,1]
[]
[]
[]
[55]
[]
[]
[]
[]
[56]
[]
[]
[]
[]
[57]

{"sheet":"Offense Leaders","index":3,"n_rows":53,"n_cols":29,"rows_kept":53,"cut":false,"hidden":false,"merged":[[0,2,0,16],[0,18,0,20],[0,22,0,26]]}
[null,null,"Offense",null,null,null,null,null,null,null,null,null,null,null,null,null,null,null,"Defense",null,null,null,"Percentage"]
["ID","Spieler","PA","AB","R","RBI","H","2B","3B","HR","K","BB","HP","SB","CS","SH","SF",null,"A","PO","E",null,"AVG","SLG","AVG+SLG","OBP","OPS",null,"FLD"]
[{"$f":"Bayern!A63","v":53},{"$f":"Bayern!B63","v":"Santa Cruz"},{"$f":"SUM(Bayern!D63:D67)","v":1},{"$f":"SUM(Bayern!E63:E67)","v":1},{"$f":"SUM(NRW!F59:F63)","v":1},{"$f":"SUM(Bayern!G63:G67)","v":2},{"$f":"SUM(Bayern!H63:H67)","v":1},{"$f":"SUM(Bayern!I63:I67)","v":0},{"$f":"SUM(Bayern!J63:J67)","v":0},{"$f":"SUM(Bayern!K63:K67)","v":0},{"$f":"SUM(Bayern!L63:L67)","v":0},{"$f":"SUM(Bayern!M63:M67)","v":0},{"$f":"SUM(Bayern!N63:N67)","v":0},{"$f":"SUM(Bayern!O63:O67)","v":0},{"$f":"SUM(Bayern!P63:P67)","v":0},{"$f":"SUM(Bayern!Q63:Q67)","v":0},{"$f":"SUM(Bayern!R63:R67)","v":0},null,{"$f":"SUM(Bayern!T63:T67)","v":0},{"$f":"SUM(Bayern!U63:U67)","v":0},{"$f":"SUM(Bayern!V63:V67)","v":0},null,{"$f":"IF(ISERROR(G3/D3),0,G3/D3)","v":1},{"$f":"IF(ISERROR((4*J3+3*I3+2*H3+G3-SUM(H3:J3))/D3),0,(4*J3+3*I3+2*H3+G3-SUM(H3:J3))/D3)","v":1},{"$f":"W3+X3","v":2},{"$f":"IF(ISERROR((G3+L3+M3)/(D3+L3+M3+Q3)),0,(G3+L3+M3)/(D3+L3+M3+Q3))","v":1},{"$f":"Z3+X3","v":2},null,{"$f":"IF(ISERROR((S3+T3)/(U3+S3+T3)),0,(S3+T3)/(U3+S3+T3))","v":0}]
[{"$f":"NRW!A8","v":2},{"$f":"NRW!B8","v":"Parpart"},{"$f":"SUM(NRW!D8:D12)","v":15},{"$f":"SUM(NRW!E8:E12)","v":7},{"$f":"SUM(NRW!F15:F19)","v":6},{"$f":"SUM(NRW!G8:G12)","v":0},{"$f":"SUM(NRW!H8:H12)","v":3},{"$f":"SUM(NRW!I8:I12)","v":0},{"$f":"SUM(NRW!J8:J12)","v":1},{"$f":"SUM(NRW!K8:K12)","v":0},{"$f":"SUM(NRW!L8:L12)","v":4},{"$f":"SUM(NRW!M8:M12)","v":7},{"$f":"SUM(NRW!N8:N12)","v":0},{"$f":"SUM(NRW!O8:O12)","v":4},{"$f":"SUM(NRW!P8:P12)","v":0},{"$f":"SUM(NRW!Q8:Q12)","v":0},{"$f":"SUM(NRW!R8:R12)","v":0},null,{"$f":"SUM(NRW!T8:T12)","v":0},{"$f":"SUM(NRW!U8:U12)","v":0},{"$f":"SUM(NRW!V8:V12)","v":0},null,{"$f":"IF(ISERROR(G4/D4),0,G4/D4)","v":0.42857142857142855},{"$f":"IF(ISERROR((4*J4+3*I4+2*H4+G4-SUM(H4:J4))/D4),0,(4*J4+3*I4+2*H4+G4-SUM(H4:J4))/D4)","v":0.7142857142857143},{"$f":"W4+X4","v":1.1428571428571428},{"$f":"IF(ISERROR((G4+L4+M4)/(D4+L4+M4+Q4)),0,(G4+L4+M4)/(D4+L4+M4+Q4))","v":0.7142857142857143},{"$f":"Z4+X4","v":1.4285714285714286},null,{"$f":"IF(ISERROR((S4+T4)/(U4+S4+T4)),0,(S4+T4)/(U4+S4+T4))","v":0}]
[{"$f":"Bayern!A68","v":54},{"$f":"Bayern!B68","v":"Reinisch"},{"$f":"SUM(Bayern!D68:D72)","v":5},{"$f":"SUM(Bayern!E68:E72)","v":2},{"$f":"SUM(NRW!F60:F64)","v":1},{"$f":"SUM(Bayern!G68:G72)","v":0},{"$f":"SUM(Bayern!H68:H72)","v":1},{"$f":"SUM(Bayern!I68:I72)","v":0},{"$f":"SUM(Bayern!J68:J72)","v":0},{"$f":"SUM(Bayern!K68:K72)","v":0},{"$f":"SUM(Bayern!L68:L72)","v":1},{"$f":"SUM(Bayern!M68:M72)","v":3},{"$f":"SUM(Bayern!N68:N72)","v":0},{"$f":"SUM(Bayern!O68:O72)","v":0},{"$f":"SUM(Bayern!P68:P72)","v":0},{"$f":"SUM(Bayern!Q68:Q72)","v":0},{"$f":"SUM(Bayern!R68:R72)","v":0},null,{"$f":"SUM(Bayern!T68:T72)","v":0},{"$f":"SUM(Bayern!U68:U72)","v":0},{"$f":"SUM(Bayern!V68:V72)","v":0},null,{"$f":"IF(ISERROR(G5/D5),0,G5/D5)","v":0.5},{"$f":"IF(ISERROR((4*J5+3*I5+2*H5+G5-SUM(H5:J5))/D5),0,(4*J5+3*I5+2*H5+G5-SUM(H5:J5))/D5)","v":0.5},{"$f":"W5+X5","v":1},{"$f":"IF(ISERROR((G5+L5+M5)/(D5+L5+M5+Q5)),0,(G5+L5+M5)/(D5+L5+M5+Q5))","v":0.8},{"$f":"Z5+X5","v":1.3},null,{"$f":"IF(ISERROR((S5+T5)/(U5+S5+T5)),0,(S5+T5)/(U5+S5+T5))","v":0}]
[{"$f":"NRW!A3","v":1},{"$f":"NRW!B3","v":"Dunford"},{"$f":"SUM(NRW!D3:D7)","v":15},{"$f":"SUM(NRW!E3:E7)","v":13},{"$f":"SUM(NRW!F14:F18)","v":8},{"$f":"SUM(NRW!G3:G7)","v":5},{"$f":"SUM(NRW!H3:H7)","v":6},{"$f":"SUM(NRW!I3:I7)","v":1},{"$f":"SUM(NRW!J3:J7)","v":1},{"$f":"SUM(NRW!K3:K7)","v":0},{"$f":"SUM(NRW!L3:L7)","v":0},{"$f":"SUM(NRW!M3:M7)","v":2},{"$f":"SUM(NRW!N3:N7)","v":0},{"$f":"SUM(NRW!O3:O7)","v":0},{"$f":"SUM(NRW!P3:P7)","v":0},{"$f":"SUM(NRW!Q3:Q7)","v":0},{"$f":"SUM(NRW!R3:R7)","v":0},null,{"$f":"SUM(NRW!T3:T7)","v":0},{"$f":"SUM(NRW!U3:U7)","v":0},{"$f":"SUM(NRW!V3:V7)","v":0},null,{"$f":"IF(ISERROR(G6/D6),0,G6/D6)","v":0.46153846153846156},{"$f":"IF(ISERROR((4*J6+3*I6+2*H6+G6-SUM(H6:J6))/D6),0,(4*J6+3*I6+2*H6+G6-SUM(H6:J6))/D6)","v":0.69230769230769229},{"$f":"W6+X6","v":1.1538461538461537},{"$f":"IF(ISERROR((G6+L6+M6)/(D6+L6+M6+Q6)),0,(G6+L6+M6)/(D6+L6+M6+Q6))","v":0.53333333333333333},{"$f":"Z6+X6","v":1.2256410256410257},null,{"$f":"IF(ISERROR((S6+T6)/(U6+S6+T6)),0,(S6+T6)/(U6+S6+T6))","v":0}]
[{"$f":"BaWü!A18","v":24},{"$f":"BaWü!B18","v":"Beigel"},{"$f":"SUM(BaWü!D18:D22)","v":9},{"$f":"SUM(BaWü!E18:E22)","v":5},{"$f":"SUM(NRW!F48:F52)","v":3},{"$f":"SUM(BaWü!G18:G22)","v":3},{"$f":"SUM(BaWü!H18:H22)","v":2},{"$f":"SUM(BaWü!I18:I22)","v":1},{"$f":"SUM(BaWü!J18:J22)","v":0},{"$f":"SUM(BaWü!K18:K22)","v":0},{"$f":"SUM(BaWü!L18:L22)","v":2},{"$f":"SUM(BaWü!M18:M22)","v":2},{"$f":"SUM(BaWü!N18:N22)","v":0},{"$f":"SUM(BaWü!O18:O22)","v":3},{"$f":"SUM(BaWü!P18:P22)","v":1},{"$f":"SUM(BaWü!Q18:Q22)","v":2},{"$f":"SUM(BaWü!R18:R22)","v":0},null,{"$f":"SUM(BaWü!T18:T22)","v":0},{"$f":"SUM(BaWü!U18:U22)","v":0},{"$f":"SUM(BaWü!V18:V22)","v":0},null,{"$f":"IF(ISERROR(G7/D7),0,G7/D7)","v":0.4},{"$f":"IF(ISERROR((4*J7+3*I7+2*H7+G7-SUM(H7:J7))/D7),0,(4*J7+3*I7+2*H7+G7-SUM(H7:J7))/D7)","v":0.6},{"$f":"W7+X7","v":1},{"$f":"IF(ISERROR((G7+L7+M7)/(D7+L7+M7+Q7)),0,(G7+L7+M7)/(D7+L7+M7+Q7))","v":0.5714285714285714},{"$f":"Z7+X7","v":1.1714285714285713},null,{"$f":"IF(ISERROR((S7+T7)/(U7+S7+T7)),0,(S7+T7)/(U7+S7+T7))","v":0}]
[{"$f":"BaWü!A8","v":22},{"$f":"BaWü!B8","v":"Bucher"},{"$f":"SUM(BaWü!D8:D12)","v":10},{"$f":"SUM(BaWü!E8:E12)","v":8},{"$f":"SUM(NRW!F45:F49)","v":3},{"$f":"SUM(BaWü!G8:G12)","v":0},{"$f":"SUM(BaWü!H8:H12)","v":3},{"$f":"SUM(BaWü!I8:I12)","v":0},{"$f":"SUM(BaWü!J8:J12)","v":1},{"$f":"SUM(BaWü!K8:K12)","v":0},{"$f":"SUM(BaWü!L8:L12)","v":2},{"$f":"SUM(BaWü!M8:M12)","v":1},{"$f":"SUM(BaWü!N8:N12)","v":1},{"$f":"SUM(BaWü!O8:O12)","v":5},{"$f":"SUM(BaWü!P8:P12)","v":0},{"$f":"SUM(BaWü!Q8:Q12)","v":0},{"$f":"SUM(BaWü!R8:R12)","v":0},null,{"$f":"SUM(BaWü!T8:T12)","v":0},{"$f":"SUM(BaWü!U8:U12)","v":0},{"$f":"SUM(BaWü!V8:V12)","v":0},null,{"$f":"IF(ISERROR(G8/D8),0,G8/D8)","v":0.375},{"$f":"IF(ISERROR((4*J8+3*I8+2*H8+G8-SUM(H8:J8))/D8),0,(4*J8+3*I8+2*H8+G8-SUM(H8:J8))/D8)","v":0.625},{"$f":"W8+X8","v":1},{"$f":"IF(ISERROR((G8+L8+M8)/(D8+L8+M8+Q8)),0,(G8+L8+M8)/(D8+L8+M8+Q8))","v":0.5},{"$f":"Z8+X8","v":1.125},null,{"$f":"IF(ISERROR((S8+T8)/(U8+S8+T8)),0,(S8+T8)/(U8+S8+T8))","v":0}]
[{"$f":"Bayern!A23","v":45},{"$f":"Bayern!B23","v":"Sandner"},{"$f":"SUM(Bayern!D23:D27)","v":8},{"$f":"SUM(Bayern!E23:E27)","v":4},{"$f":"SUM(NRW!F68:F72)","v":0},{"$f":"SUM(Bayern!G23:G27)","v":2},{"$f":"SUM(Bayern!H23:H27)","v":1},{"$f":"SUM(Bayern!I23:I27)","v":1},{"$f":"SUM(Bayern!J23:J27)","v":0},{"$f":"SUM(Bayern!K23:K27)","v":0},{"$f":"SUM(Bayern!L23:L27)","v":0},{"$f":"SUM(Bayern!M23:M27)","v":4},{"$f":"SUM(Bayern!N23:N27)","v":0},{"$f":"SUM(Bayern!O23:O27)","v":0},{"$f":"SUM(Bayern!P23:P27)","v":0},{"$f":"SUM(Bayern!Q23:Q27)","v":0},{"$f":"SUM(Bayern!R23:R27)","v":0},null,{"$f":"SUM(Bayern!T23:T27)","v":0},{"$f":"SUM(Bayern!U23:U27)","v":0},{"$f":"SUM(Bayern!V23:V27)","v":0},null,{"$f":"IF(ISERROR(G9/D9),0,G9/D9)","v":0.25},{"$f":"IF(ISERROR((4*J9+3*I9+2*H9+G9-SUM(H9:J9))/D9),0,(4*J9+3*I9+2*H9+G9-SUM(H9:J9))/D9)","v":0.5},{"$f":"W9+X9","v":0.75},{"$f":"IF(ISERROR((G9+L9+M9)/(D9+L9+M9+Q9)),0,(G9+L9+M9)/(D9+L9+M9+Q9))","v":0.625},{"$f":"Z9+X9","v":1.125},null,{"$f":"IF(ISERROR((S9+T9)/(U9+S9+T9)),0,(S9+T9)/(U9+S9+T9))","v":0}]
[{"$f":"Bayern!A8","v":42},{"$f":"Bayern!B8","v":"Distler"},{"$f":"SUM(Bayern!D8:D12)","v":13},{"$f":"SUM(Bayern!E8:E12)","v":6},{"$f":"SUM(NRW!F64:F68)","v":0},{"$f":"SUM(Bayern!G8:G12)","v":4},{"$f":"SUM(Bayern!H8:H12)","v":2},{"$f":"SUM(Bayern!I8:I12)","v":1},{"$f":"SUM(Bayern!J8:J12)","v":0},{"$f":"SUM(Bayern!K8:K12)","v":0},{"$f":"SUM(Bayern!L8:L12)","v":1},{"$f":"SUM(Bayern!M8:M12)","v":4},{"$f":"SUM(Bayern!N8:N12)","v":0},{"$f":"SUM(Bayern!O8:O12)","v":2},{"$f":"SUM(Bayern!P8:P12)","v":1},{"$f":"SUM(Bayern!Q8:Q12)","v":3},{"$f":"SUM(Bayern!R8:R12)","v":0},null,{"$f":"SUM(Bayern!T8:T12)","v":0},{"$f":"SUM(Bayern!U8:U12)","v":0},{"$f":"SUM(Bayern!V8:V12)","v":0},null,{"$f":"IF(ISERROR(G10/D10),0,G10/D10)","v":0.33333333333333331},{"$f":"IF(ISERROR((4*J10+3*I10+2*H10+G10-SUM(H10:J10))/D10),0,(4*J10+3*I10+2*H10+G10-SUM(H10:J10))/D10)","v":0.5},{"$f":"W10+X10","v":0.83333333333333326},{"$f":"IF(ISERROR((G10+L10+M10)/(D10+L10+M10+Q10)),0,(G10+L10+M10)/(D10+L10+M10+Q10))","v":0.6},{"$f":"Z10+X10","v":1.1000000000000001},null,{"$f":"IF(ISERROR((S10+T10)/(U10+S10+T10)),0,(S10+T10)/(U10+S10+T10))","v":0}]
[{"$f":"NRW!A13","v":3},{"$f":"NRW!B13","v":"Weyer"},{"$f":"SUM(NRW!D13:D17)","v":15},{"$f":"SUM(NRW!E13:E17)","v":14},{"$f":"SUM(NRW!F13:F17)","v":5},{"$f":"SUM(NRW!G13:G17)","v":6},{"$f":"SUM(NRW!H13:H17)","v":6},{"$f":"SUM(NRW!I13:I17)","v":0},{"$f":"SUM(NRW!J13:J17)","v":1},{"$f":"SUM(NRW!K13:K17)","v":0},{"$f":"SUM(NRW!L13:L17)","v":2},{"$f":"SUM(NRW!M13:M17)","v":1},{"$f":"SUM(NRW!N13:N17)","v":0},{"$f":"SUM(NRW!O13:O17)","v":3},{"$f":"SUM(NRW!P13:P17)","v":1},{"$f":"SUM(NRW!Q13:Q17)","v":0},{"$f":"SUM(NRW!R13:R17)","v":0},null,{"$f":"SUM(NRW!T13:T17)","v":0},{"$f":"SUM(NRW!U13:U17)","v":0},{"$f":"SUM(NRW!V13:V17)","v":0},null,{"$f":"IF(ISERROR(G11/D11),0,G11/D11)","v":0.42857142857142855},{"$f":"IF(ISERROR((4*J11+3*I11+2*H11+G11-SUM(H11:J11))/D11),0,(4*J11+3*I11+2*H11+G11-SUM(H11:J11))/D11)","v":0.5714285714285714},{"$f":"W11+X11","v":1},{"$f":"IF(ISERROR((G11+L11+M11)/(D11+L11+M11+Q11)),0,(G11+L11+M11)/(D11+L11+M11+Q11))","v":0.46666666666666667},{"$f":"Z11+X11","v":1.038095238095238},null,{"$f":"IF(ISERROR((S11+T11)/(U11+S11+T11)),0,(S11+T11)/(U11+S11+T11))","v":0}]
[{"$f":"Bayern!A3","v":41},{"$f":"Bayern!B3","v":"Ullmann"},{"$f":"SUM(Bayern!D3:D7)","v":13},{"$f":"SUM(Bayern!E3:E7)","v":6},{"$f":"SUM(NRW!F54:F58)","v":1},{"$f":"SUM(Bayern!G3:G7)","v":1},{"$f":"SUM(Bayern!H3:H7)","v":2},{"$f":"SUM(Bayern!I3:I7)","v":0},{"$f":"SUM(Bayern!J3:J7)","v":0},{"$f":"SUM(Bayern!K3:K7)","v":0},{"$f":"SUM(Bayern!L3:L7)","v":0},{"$f":"SUM(Bayern!M3:M7)","v":7},{"$f":"SUM(Bayern!N3:N7)","v":0},{"$f":"SUM(Bayern!O3:O7)","v":3},{"$f":"SUM(Bayern!P3:P7)","v":1},{"$f":"SUM(Bayern!Q3:Q7)","v":0},{"$f":"SUM(Bayern!R3:R7)","v":0},null,{"$f":"SUM(Bayern!T3:T7)","v":0},{"$f":"SUM(Bayern!U3:U7)","v":0},{"$f":"SUM(Bayern!V3:V7)","v":0},null,{"$f":"IF(ISERROR(G12/D12),0,G12/D12)","v":0.33333333333333331},{"$f":"IF(ISERROR((4*J12+3*I12+2*H12+G12-SUM(H12:J12))/D12),0,(4*J12+3*I12+2*H12+G12-SUM(H12:J12))/D12)","v":0.33333333333333331},{"$f":"W12+X12","v":0.66666666666666663},{"$f":"IF(ISERROR((G12+L12+M12)/(D12+L12+M12+Q12)),0,(G12+L12+M12)/(D12+L12+M12+Q12))","v":0.69230769230769229},{"$f":"Z12+X12","v":1.0256410256410255},null,{"$f":"IF(ISERROR((S12+T12)/(U12+S12+T12)),0,(S12+T12)/(U12+S12+T12))","v":0}]
[{"$f":"BaWü!A63","v":33},{"$f":"BaWü!B63","v":"Eisinger"},{"$f":"SUM(BaWü!D63:D67)","v":2},{"$f":"SUM(BaWü!E63:E67)","v":0},{"$f":"SUM(NRW!F39:F43)","v":1},{"$f":"SUM(BaWü!G63:G67)","v":0},{"$f":"SUM(BaWü!H63:H67)","v":0},{"$f":"SUM(BaWü!I63:I67)","v":0},{"$f":"SUM(BaWü!J63:J67)","v":0},{"$f":"SUM(BaWü!K63:K67)","v":0},{"$f":"SUM(BaWü!L63:L67)","v":0},{"$f":"SUM(BaWü!M63:M67)","v":2},{"$f":"SUM(BaWü!N63:N67)","v":0},{"$f":"SUM(BaWü!O63:O67)","v":0},{"$f":"SUM(BaWü!P63:P67)","v":0},{"$f":"SUM(BaWü!Q63:Q67)","v":0},{"$f":"SUM(BaWü!R63:R67)","v":0},null,{"$f":"SUM(BaWü!T63:T67)","v":0},{"$f":"SUM(BaWü!U63:U67)","v":0},{"$f":"SUM(BaWü!V63:V67)","v":0},null,{"$f":"IF(ISERROR(G13/D13),0,G13/D13)","v":0},{"$f":"IF(ISERROR((4*J13+3*I13+2*H13+G13-SUM(H13:J13))/D13),0,(4*J13+3*I13+2*H13+G13-SUM(H13:J13))/D13)","v":0},{"$f":"W13+X13","v":0},{"$f":"IF(ISERROR((G13+L13+M13)/(D13+L13+M13+Q13)),0,(G13+L13+M13)/(D13+L13+M13+Q13))","v":1},{"$f":"Z13+X13","v":1},null,{"$f":"IF(ISERROR((S13+T13)/(U13+S13+T13)),0,(S13+T13)/(U13+S13+T13))","v":0}]
[{"$f":"BaWü!A33","v":27},{"$f":"BaWü!B33","v":"Lübken"},{"$f":"SUM(BaWü!D33:D37)","v":8},{"$f":"SUM(BaWü!E33:E37)","v":7},{"$f":"SUM(NRW!F50:F54)","v":1},{"$f":"SUM(BaWü!G33:G37)","v":1},{"$f":"SUM(BaWü!H33:H37)","v":3},{"$f":"SUM(BaWü!I33:I37)","v":0},{"$f":"SUM(BaWü!J33:J37)","v":0},{"$f":"SUM(BaWü!K33:K37)","v":0},{"$f":"SUM(BaWü!L33:L37)","v":2},{"$f":"SUM(BaWü!M33:M37)","v":1},{"$f":"SUM(BaWü!N33:N37)","v":0},{"$f":"SUM(BaWü!O33:O37)","v":0},{"$f":"SUM(BaWü!P33:P37)","v":0},{"$f":"SUM(BaWü!Q33:Q37)","v":0},{"$f":"SUM(BaWü!R33:R37)","v":0},null,{"$f":"SUM(BaWü!T33:T37)","v":0},{"$f":"SUM(BaWü!U33:U37)","v":0},{"$f":"SUM(BaWü!V33:V37)","v":0},null,{"$f":"IF(ISERROR(G14/D14),0,G14/D14)","v":0.42857142857142855},{"$f":"IF(ISERROR((4*J14+3*I14+2*H14+G14-SUM(H14:J14))/D14),0,(4*J14+3*I14+2*H14+G14-SUM(H14:J14))/D14)","v":0.42857142857142855},{"$f":"W14+X14","v":0.8571428571428571},{"$f":"IF(ISERROR((G14+L14+M14)/(D14+L14+M14+Q14)),0,(G14+L14+M14)/(D14+L14+M14+Q14))","v":0.5},{"$f":"Z14+X14","v":0.9285714285714286},null,{"$f":"IF(ISERROR((S14+T14)/(U14+S14+T14)),0,(S14+T14)/(U14+S14+T14))","v":0}]
[{"$f":"Bayern!A18","v":44},{"$f":"Bayern!B18","v":"Stepniak"},{"$f":"SUM(Bayern!D18:D22)","v":11},{"$f":"SUM(Bayern!E18:E22)","v":7},{"$f":"SUM(NRW!F67:F70)","v":0},{"$f":"SUM(Bayern!G18:G22)","v":0},{"$f":"SUM(Bayern!H18:H22)","v":2},{"$f":"SUM(Bayern!I18:I22)","v":0},{"$f":"SUM(Bayern!J18:J22)","v":0},{"$f":"SUM(Bayern!K18:K22)","v":0},{"$f":"SUM(Bayern!L18:L22)","v":0},{"$f":"SUM(Bayern!M18:M22)","v":4},{"$f":"SUM(Bayern!N18:N22)","v":0},{"$f":"SUM(Bayern!O18:O22)","v":3},{"$f":"SUM(Bayern!P18:P22)","v":0},{"$f":"SUM(Bayern!Q18:Q22)","v":0},{"$f":"SUM(Bayern!R18:R22)","v":0},null,{"$f":"SUM(Bayern!T18:T22)","v":0},{"$f":"SUM(Bayern!U18:U22)","v":0},{"$f":"SUM(Bayern!V18:V22)","v":0},null,{"$f":"IF(ISERROR(G15/D15),0,G15/D15)","v":0.2857142857142857},{"$f":"IF(ISERROR((4*J15+3*I15+2*H15+G15-SUM(H15:J15))/D15),0,(4*J15+3*I15+2*H15+G15-SUM(H15:J15))/D15)","v":0.2857142857142857},{"$f":"W15+X15","v":0.5714285714285714},{"$f":"IF(ISERROR((G15+L15+M15)/(D15+L15+M15+Q15)),0,(G15+L15+M15)/(D15+L15+M15+Q15))","v":0.54545454545454541},{"$f":"Z15+X15","v":0.83116883116883111},null,{"$f":"IF(ISERROR((S15+T15)/(U15+S15+T15)),0,(S15+T15)/(U15+S15+T15))","v":0}]
[{"$f":"Bayern!A33","v":47},{"$f":"Bayern!B33","v":"Spengler"},{"$f":"SUM(Bayern!D33:D37)","v":10},{"$f":"SUM(Bayern!E33:E37)","v":5},{"$f":"SUM(NRW!F70:F74)","v":0},{"$f":"SUM(Bayern!G33:G37)","v":1},{"$f":"SUM(Bayern!H33:H37)","v":1},{"$f":"SUM(Bayern!I33:I37)","v":0},{"$f":"SUM(Bayern!J33:J37)","v":0},{"$f":"SUM(Bayern!K33:K37)","v":0},{"$f":"SUM(Bayern!L33:L37)","v":1},{"$f":"SUM(Bayern!M33:M37)","v":4},{"$f":"SUM(Bayern!N33:N37)","v":1},{"$f":"SUM(Bayern!O33:O37)","v":0},{"$f":"SUM(Bayern!P33:P37)","v":0},{"$f":"SUM(Bayern!Q33:Q37)","v":0},{"$f":"SUM(Bayern!R33:R37)","v":0},null,{"$f":"SUM(Bayern!T33:T37)","v":0},{"$f":"SUM(Bayern!U33:U37)","v":0},{"$f":"SUM(Bayern!V33:V37)","v":0},null,{"$f":"IF(ISERROR(G16/D16),0,G16/D16)","v":0.2},{"$f":"IF(ISERROR((4*J16+3*I16+2*H16+G16-SUM(H16:J16))/D16),0,(4*J16+3*I16+2*H16+G16-SUM(H16:J16))/D16)","v":0.2},{"$f":"W16+X16","v":0.4},{"$f":"IF(ISERROR((G16+L16+M16)/(D16+L16+M16+Q16)),0,(G16+L16+M16)/(D16+L16+M16+Q16))","v":0.6},{"$f":"Z16+X16","v":0.8},null,{"$f":"IF(ISERROR((S16+T16)/(U16+S16+T16)),0,(S16+T16)/(U16+S16+T16))","v":0}]
[{"$f":"BaWü!A38","v":28},{"$f":"BaWü!B38","v":"Apel"},{"$f":"SUM(BaWü!D38:D42)","v":4},{"$f":"SUM(BaWü!E38:E42)","v":1},{"$f":"SUM(NRW!F52:F55)","v":1},{"$f":"SUM(BaWü!G38:G42)","v":0},{"$f":"SUM(BaWü!H38:H42)","v":0},{"$f":"SUM(BaWü!I38:I42)","v":0},{"$f":"SUM(BaWü!J38:J42)","v":0},{"$f":"SUM(BaWü!K38:K42)","v":0},{"$f":"SUM(BaWü!L38:L42)","v":1},{"$f":"SUM(BaWü!M38:M42)","v":3},{"$f":"SUM(BaWü!N38:N42)","v":0},{"$f":"SUM(BaWü!O38:O42)","v":0},{"$f":"SUM(BaWü!P38:P42)","v":1},{"$f":"SUM(BaWü!Q38:Q42)","v":0},{"$f":"SUM(BaWü!R38:R42)","v":0},null,{"$f":"SUM(BaWü!T38:T42)","v":0},{"$f":"SUM(BaWü!U38:U42)","v":0},{"$f":"SUM(BaWü!V38:V42)","v":0},null,{"$f":"IF(ISERROR(G17/D17),0,G17/D17)","v":0},{"$f":"IF(ISERROR((4*J17+3*I17+2*H17+G17-SUM(H17:J17))/D17),0,(4*J17+3*I17+2*H17+G17-SUM(H17:J17))/D17)","v":0},{"$f":"W17+X17","v":0},{"$f":"IF(ISERROR((G17+L17+M17)/(D17+L17+M17+Q17)),0,(G17+L17+M17)/(D17+L17+M17+Q17))","v":0.75},{"$f":"Z17+X17","v":0.75},null,{"$f":"IF(ISERROR((S17+T17)/(U17+S17+T17)),0,(S17+T17)/(U17+S17+T17))","v":0}]
[{"$f":"Bayern!A58","v":52},{"$f":"Bayern!B58","v":"Brosch"},{"$f":"SUM(Bayern!D58:D62)","v":6},{"$f":"SUM(Bayern!E58:E62)","v":5},{"$f":"SUM(NRW!F58:F62)","v":1},{"$f":"SUM(Bayern!G58:G62)","v":2},{"$f":"SUM(Bayern!H58:H62)","v":1},{"$f":"SUM(Bayern!I58:I62)","v":1},{"$f":"SUM(Bayern!J58:J62)","v":0},{"$f":"SUM(Bayern!K58:K62)","v":0},{"$f":"SUM(Bayern!L58:L62)","v":0},{"$f":"SUM(Bayern!M58:M62)","v":1},{"$f":"SUM(Bayern!N58:N62)","v":0},{"$f":"SUM(Bayern!O58:O62)","v":1},{"$f":"SUM(Bayern!P58:P62)","v":0},{"$f":"SUM(Bayern!Q58:Q62)","v":0},{"$f":"SUM(Bayern!R58:R62)","v":0},null,{"$f":"SUM(Bayern!T58:T62)","v":0},{"$f":"SUM(Bayern!U58:U62)","v":0},{"$f":"SUM(Bayern!V58:V62)","v":0},null,{"$f":"IF(ISERROR(G18/D18),0,G18/D18)","v":0.2},{"$f":"IF(ISERROR((4*J18+3*I18+2*H18+G18-SUM(H18:J18))/D18),0,(4*J18+3*I18+2*H18+G18-SUM(H18:J18))/D18)","v":0.4},{"$f":"W18+X18","v":0.60000000000000009},{"$f":"IF(ISERROR((G18+L18+M18)/(D18+L18+M18+Q18)),0,(G18+L18+M18)/(D18+L18+M18+Q18))","v":0.33333333333333331},{"$f":"Z18+X18","v":0.73333333333333339},null,{"$f":"IF(ISERROR((S18+T18)/(U18+S18+T18)),0,(S18+T18)/(U18+S18+T18))","v":0}]
[{"$f":"BaWü!A23","v":25},{"$f":"BaWü!B23","v":"Freis"},{"$f":"SUM(BaWü!D23:D27)","v":9},{"$f":"SUM(BaWü!E23:E27)","v":7},{"$f":"SUM(NRW!F49:F53)","v":3},{"$f":"SUM(BaWü!G23:G27)","v":1},{"$f":"SUM(BaWü!H23:H27)","v":2},{"$f":"SUM(BaWü!I23:I27)","v":0},{"$f":"SUM(BaWü!J23:J27)","v":0},{"$f":"SUM(BaWü!K23:K27)","v":0},{"$f":"SUM(BaWü!L23:L27)","v":1},{"$f":"SUM(BaWü!M23:M27)","v":2},{"$f":"SUM(BaWü!N23:N27)","v":0},{"$f":"SUM(BaWü!O23:O27)","v":2},{"$f":"SUM(BaWü!P23:P27)","v":1},{"$f":"SUM(BaWü!Q23:Q27)","v":0},{"$f":"SUM(BaWü!R23:R27)","v":0},null,{"$f":"SUM(BaWü!T23:T27)","v":0},{"$f":"SUM(BaWü!U23:U27)","v":0},{"$f":"SUM(BaWü!V23:V27)","v":0},null,{"$f":"IF(ISERROR(G19/D19),0,G19/D19)","v":0.2857142857142857},{"$f":"IF(ISERROR((4*J19+3*I19+2*H19+G19-SUM(H19:J19))/D19),0,(4*J19+3*I19+2*H19+G19-SUM(H19:J19))/D19)","v":0.2857142857142857},{"$f":"W19+X19","v":0.5714285714285714},{"$f":"IF(ISERROR((G19+L19+M19)/(D19+L19+M19+Q19)),0,(G19+L19+M19)/(D19+L19+M19+Q19))","v":0.44444444444444442},{"$f":"Z19+X19","v":0.73015873015873012},null,{"$f":"IF(ISERROR((S19+T19)/(U19+S19+T19)),0,(S19+T19)/(U19+S19+T19))","v":0}]
[{"$f":"NRW!A33","v":7},{"$f":"NRW!B33","v":"Elstermeier, S"},{"$f":"SUM(NRW!D33:D37)","v":14},{"$f":"SUM(NRW!E33:E37)","v":7},{"$f":"SUM(NRW!F20:F24)","v":4},{"$f":"SUM(NRW!G33:G37)","v":2},{"$f":"SUM(NRW!H33:H37)","v":1},{"$f":"SUM(NRW!I33:I37)","v":0},{"$f":"SUM(NRW!J33:J37)","v":0},{"$f":"SUM(NRW!K33:K37)","v":0},{"$f":"SUM(NRW!L33:L37)","v":4},{"$f":"SUM(NRW!M33:M37)","v":6},{"$f":"SUM(NRW!N33:N37)","v":0},{"$f":"SUM(NRW!O33:O37)","v":1},{"$f":"SUM(NRW!P33:P37)","v":0},{"$f":"SUM(NRW!Q33:Q37)","v":1},{"$f":"SUM(NRW!R33:R37)","v":0},null,{"$f":"SUM(NRW!T33:T37)","v":0},{"$f":"SUM(NRW!U33:U37)","v":0},{"$f":"SUM(NRW!V33:V37)","v":0},null,{"$f":"IF(ISERROR(G20/D20),0,G20/D20)","v":0.14285714285714285},{"$f":"IF(ISERROR((4*J20+3*I20+2*H20+G20-SUM(H20:J20))/D20),0,(4*J20+3*I20+2*H20+G20-SUM(H20:J20))/D20)","v":0.14285714285714285},{"$f":"W20+X20","v":0.2857142857142857},{"$f":"IF(ISERROR((G20+L20+M20)/(D20+L20+M20+Q20)),0,(G20+L20+M20)/(D20+L20+M20+Q20))","v":0.53846153846153844},{"$f":"Z20+X20","v":0.68131868131868134},null,{"$f":"IF(ISERROR((S20+T20)/(U20+S20+T20)),0,(S20+T20)/(U20+S20+T20))","v":0}]
[{"$f":"NRW!A63","v":13},{"$f":"NRW!B63","v":"Wahlen"},{"$f":"SUM(NRW!D63:D67)","v":3},{"$f":"SUM(NRW!E63:E67)","v":1},{"$f":"SUM(NRW!F28:F32)","v":0},{"$f":"SUM(NRW!G63:G67)","v":1},{"$f":"SUM(NRW!H63:H67)","v":0},{"$f":"SUM(NRW!I63:I67)","v":0},{"$f":"SUM(NRW!J63:J67)","v":0},{"$f":"SUM(NRW!K63:K67)","v":0},{"$f":"SUM(NRW!L63:L67)","v":0},{"$f":"SUM(NRW!M63:M67)","v":2},{"$f":"SUM(NRW!N63:N67)","v":0},{"$f":"SUM(NRW!O63:O67)","v":1},{"$f":"SUM(NRW!P63:P67)","v":0},{"$f":"SUM(NRW!Q63:Q67)","v":0},{"$f":"SUM(NRW!R63:R67)","v":0},null,{"$f":"SUM(NRW!T63:T67)","v":0},{"$f":"SUM(NRW!U63:U67)","v":0},{"$f":"SUM(NRW!V63:V67)","v":0},null,{"$f":"IF(ISERROR(G21/D21),0,G21/D21)","v":0},{"$f":"IF(ISERROR((4*J21+3*I21+2*H21+G21-SUM(H21:J21))/D21),0,(4*J21+3*I21+2*H21+G21-SUM(H21:J21))/D21)","v":0},{"$f":"W21+X21","v":0},{"$f":"IF(ISERROR((G21+L21+M21)/(D21+L21+M21+Q21)),0,(G21+L21+M21)/(D21+L21+M21+Q21))","v":0.66666666666666663},{"$f":"Z21+X21","v":0.66666666666666663},null,{"$f":"IF(ISERROR((S21+T21)/(U21+S21+T21)),0,(S21+T21)/(U21+S21+T21))","v":0}]
[{"$f":"NRW!A38","v":8},{"$f":"NRW!B38","v":"Kessler"},{"$f":"SUM(NRW!D38:D42)","v":5},{"$f":"SUM(NRW!E38:E42)","v":4},{"$f":"SUM(NRW!F22:F25)","v":4},{"$f":"SUM(NRW!G38:G42)","v":2},{"$f":"SUM(NRW!H38:H42)","v":1},{"$f":"SUM(NRW!I38:I42)","v":0},{"$f":"SUM(NRW!J38:J42)","v":0},{"$f":"SUM(NRW!K38:K42)","v":0},{"$f":"SUM(NRW!L38:L42)","v":2},{"$f":"SUM(NRW!M38:M42)","v":1},{"$f":"SUM(NRW!N38:N42)","v":0},{"$f":"SUM(NRW!O38:O42)","v":0},{"$f":"SUM(NRW!P38:P42)","v":0},{"$f":"SUM(NRW!Q38:Q42)","v":0},{"$f":"SUM(NRW!R38:R42)","v":0},null,{"$f":"SUM(NRW!T38:T42)","v":0},{"$f":"SUM(NRW!U38:U42)","v":0},{"$f":"SUM(NRW!V38:V42)","v":0},null,{"$f":"IF(ISERROR(G22/D22),0,G22/D22)","v":0.25},{"$f":"IF(ISERROR((4*J22+3*I22+2*H22+G22-SUM(H22:J22))/D22),0,(4*J22+3*I22+2*H22+G22-SUM(H22:J22))/D22)","v":0.25},{"$f":"W22+X22","v":0.5},{"$f":"IF(ISERROR((G22+L22+M22)/(D22+L22+M22+Q22)),0,(G22+L22+M22)/(D22+L22+M22+Q22))","v":0.4},{"$f":"Z22+X22","v":0.65},null,{"$f":"IF(ISERROR((S22+T22)/(U22+S22+T22)),0,(S22+T22)/(U22+S22+T22))","v":0}]
[{"$f":"Bayern!A38","v":48},{"$f":"Bayern!B38","v":"Eiting"},{"$f":"SUM(Bayern!D38:D42)","v":5},{"$f":"SUM(Bayern!E38:E42)","v":4},{"$f":"SUM(NRW!F72:F75)","v":0},{"$f":"SUM(Bayern!G38:G42)","v":0},{"$f":"SUM(Bayern!H38:H42)","v":1},{"$f":"SUM(Bayern!I38:I42)","v":0},{"$f":"SUM(Bayern!J38:J42)","v":0},{"$f":"SUM(Bayern!K38:K42)","v":0},{"$f":"SUM(Bayern!L38:L42)","v":3},{"$f":"SUM(Bayern!M38:M42)","v":1},{"$f":"SUM(Bayern!N38:N42)","v":0},{"$f":"SUM(Bayern!O38:O42)","v":0},{"$f":"SUM(Bayern!P38:P42)","v":0},{"$f":"SUM(Bayern!Q38:Q42)","v":0},{"$f":"SUM(Bayern!R38:R42)","v":0},null,{"$f":"SUM(Bayern!T38:T42)","v":0},{"$f":"SUM(Bayern!U38:U42)","v":0},{"$f":"SUM(Bayern!V38:V42)","v":0},null,{"$f":"IF(ISERROR(G23/D23),0,G23/D23)","v":0.25},{"$f":"IF(ISERROR((4*J23+3*I23+2*H23+G23-SUM(H23:J23))/D23),0,(4*J23+3*I23+2*H23+G23-SUM(H23:J23))/D23)","v":0.25},{"$f":"W23+X23","v":0.5},{"$f":"IF(ISERROR((G23+L23+M23)/(D23+L23+M23+Q23)),0,(G23+L23+M23)/(D23+L23+M23+Q23))","v":0.4},{"$f":"Z23+X23","v":0.65},null,{"$f":"IF(ISERROR((S23+T23)/(U23+S23+T23)),0,(S23+T23)/(U23+S23+T23))","v":0}]
[{"$f":"Bayern!A28","v":46},{"$f":"Bayern!B28","v":"Kerscher"},{"$f":"SUM(Bayern!D28:D32)","v":8},{"$f":"SUM(Bayern!E28:E32)","v":5},{"$f":"SUM(NRW!F69:F73)","v":0},{"$f":"SUM(Bayern!G28:G32)","v":0},{"$f":"SUM(Bayern!H28:H32)","v":1},{"$f":"SUM(Bayern!I28:I32)","v":0},{"$f":"SUM(Bayern!J28:J32)","v":0},{"$f":"SUM(Bayern!K28:K32)","v":0},{"$f":"SUM(Bayern!L28:L32)","v":1},{"$f":"SUM(Bayern!M28:M32)","v":2},{"$f":"SUM(Bayern!N28:N32)","v":0},{"$f":"SUM(Bayern!O28:O32)","v":1},{"$f":"SUM(Bayern!P28:P32)","v":0},{"$f":"SUM(Bayern!Q28:Q32)","v":1},{"$f":"SUM(Bayern!R28:R32)","v":0},null,{"$f":"SUM(Bayern!T28:T32)","v":0},{"$f":"SUM(Bayern!U28:U32)","v":0},{"$f":"SUM(Bayern!V28:V32)","v":0},null,{"$f":"IF(ISERROR(G24/D24),0,G24/D24)","v":0.2},{"$f":"IF(ISERROR((4*J24+3*I24+2*H24+G24-SUM(H24:J24))/D24),0,(4*J24+3*I24+2*H24+G24-SUM(H24:J24))/D24)","v":0.2},{"$f":"W24+X24","v":0.4},{"$f":"IF(ISERROR((G24+L24+M24)/(D24+L24+M24+Q24)),0,(G24+L24+M24)/(D24+L24+M24+Q24))","v":0.42857142857142855},{"$f":"Z24+X24","v":0.62857142857142856},null,{"$f":"IF(ISERROR((S24+T24)/(U24+S24+T24)),0,(S24+T24)/(U24+S24+T24))","v":0}]
[{"$f":"BaWü!A3","v":21},{"$f":"BaWü!B3","v":"Schmiedel"},{"$f":"SUM(BaWü!D3:D7)","v":10},{"$f":"SUM(BaWü!E3:E7)","v":6},{"$f":"SUM(NRW!F34:F38)","v":4},{"$f":"SUM(BaWü!G3:G7)","v":0},{"$f":"SUM(BaWü!H3:H7)","v":1},{"$f":"SUM(BaWü!I3:I7)","v":0},{"$f":"SUM(BaWü!J3:J7)","v":0},{"$f":"SUM(BaWü!K3:K7)","v":0},{"$f":"SUM(BaWü!L3:L7)","v":2},{"$f":"SUM(BaWü!M3:M7)","v":2},{"$f":"SUM(BaWü!N3:N7)","v":1},{"$f":"SUM(BaWü!O3:O7)","v":3},{"$f":"SUM(BaWü!P3:P7)","v":1},{"$f":"SUM(BaWü!Q3:Q7)","v":1},{"$f":"SUM(BaWü!R3:R7)","v":0},null,{"$f":"SUM(BaWü!T3:T7)","v":0},{"$f":"SUM(BaWü!U3:U7)","v":0},{"$f":"SUM(BaWü!V3:V7)","v":0},null,{"$f":"IF(ISERROR(G25/D25),0,G25/D25)","v":0.16666666666666666},{"$f":"IF(ISERROR((4*J25+3*I25+2*H25+G25-SUM(H25:J25))/D25),0,(4*J25+3*I25+2*H25+G25-SUM(H25:J25))/D25)","v":0.16666666666666666},{"$f":"W25+X25","v":0.33333333333333331},{"$f":"IF(ISERROR((G25+L25+M25)/(D25+L25+M25+Q25)),0,(G25+L25+M25)/(D25+L25+M25+Q25))","v":0.44444444444444442},{"$f":"Z25+X25","v":0.61111111111111105},null,{"$f":"IF(ISERROR((S25+T25)/(U25+S25+T25)),0,(S25+T25)/(U25+S25+T25))","v":0}]
[{"$f":"Bayern!A43","v":49},{"$f":"Bayern!B43","v":"Salomon"},{"$f":"SUM(Bayern!D43:D47)","v":12},{"$f":"SUM(Bayern!E43:E47)","v":3},{"$f":"SUM(NRW!F73:F77)","v":0},{"$f":"SUM(Bayern!G43:G47)","v":5},{"$f":"SUM(Bayern!H43:H47)","v":0},{"$f":"SUM(Bayern!I43:I47)","v":0},{"$f":"SUM(Bayern!J43:J47)","v":0},{"$f":"SUM(Bayern!K43:K47)","v":0},{"$f":"SUM(Bayern!L43:L47)","v":0},{"$f":"SUM(Bayern!M43:M47)","v":5},{"$f":"SUM(Bayern!N43:N47)","v":1},{"$f":"SUM(Bayern!O43:O47)","v":0},{"$f":"SUM(Bayern!P43:P47)","v":0},{"$f":"SUM(Bayern!Q43:Q47)","v":2},{"$f":"SUM(Bayern!R43:R47)","v":1},null,{"$f":"SUM(Bayern!T43:T47)","v":0},{"$f":"SUM(Bayern!U43:U47)","v":0},{"$f":"SUM(Bayern!V43:V47)","v":0},null,{"$f":"IF(ISERROR(G26/D26),0,G26/D26)","v":0},{"$f":"IF(ISERROR((4*J26+3*I26+2*H26+G26-SUM(H26:J26))/D26),0,(4*J26+3*I26+2*H26+G26-SUM(H26:J26))/D26)","v":0},{"$f":"W26+X26","v":0},{"$f":"IF(ISERROR((G26+L26+M26)/(D26+L26+M26+Q26)),0,(G26+L26+M26)/(D26+L26+M26+Q26))","v":0.6},{"$f":"Z26+X26","v":0.6},null,{"$f":"IF(ISERROR((S26+T26)/(U26+S26+T26)),0,(S26+T26)/(U26+S26+T26))","v":0}]
[{"$f":"NRW!A58","v":12},{"$f":"NRW!B58","v":"Hager"},{"$f":"SUM(NRW!D58:D62)","v":5},{"$f":"SUM(NRW!E58:E62)","v":2},{"$f":"SUM(NRW!F27:F30)","v":0},{"$f":"SUM(NRW!G58:G62)","v":0},{"$f":"SUM(NRW!H58:H62)","v":0},{"$f":"SUM(NRW!I58:I62)","v":0},{"$f":"SUM(NRW!J58:J62)","v":0},{"$f":"SUM(NRW!K58:K62)","v":0},{"$f":"SUM(NRW!L58:L62)","v":1},{"$f":"SUM(NRW!M58:M62)","v":3},{"$f":"SUM(NRW!N58:N62)","v":0},{"$f":"SUM(NRW!O58:O62)","v":1},{"$f":"SUM(NRW!P58:P62)","v":0},{"$f":"SUM(NRW!Q58:Q62)","v":0},{"$f":"SUM(NRW!R58:R62)","v":0},null,{"$f":"SUM(NRW!T58:T62)","v":0},{"$f":"SUM(NRW!U58:U62)","v":0},{"$f":"SUM(NRW!V58:V62)","v":0},null,{"$f":"IF(ISERROR(G27/D27),0,G27/D27)","v":0},{"$f":"IF(ISERROR((4*J27+3*I27+2*H27+G27-SUM(H27:J27))/D27),0,(4*J27+3*I27+2*H27+G27-SUM(H27:J27))/D27)","v":0},{"$f":"W27+X27","v":0},{"$f":"IF(ISERROR((G27+L27+M27)/(D27+L27+M27+Q27)),0,(G27+L27+M27)/(D27+L27+M27+Q27))","v":0.6},{"$f":"Z27+X27","v":0.6},null,{"$f":"IF(ISERROR((S27+T27)/(U27+S27+T27)),0,(S27+T27)/(U27+S27+T27))","v":0}]
[{"$f":"NRW!A23","v":5},{"$f":"NRW!B23","v":"Greven"},{"$f":"SUM(NRW!D23:D27)","v":11},{"$f":"SUM(NRW!E23:E27)","v":5},{"$f":"SUM(NRW!F18:F22)","v":4},{"$f":"SUM(NRW!G23:G27)","v":0},{"$f":"SUM(NRW!H23:H27)","v":0},{"$f":"SUM(NRW!I23:I27)","v":0},{"$f":"SUM(NRW!J23:J27)","v":0},{"$f":"SUM(NRW!K23:K27)","v":0},{"$f":"SUM(NRW!L23:L27)","v":0},{"$f":"SUM(NRW!M23:M27)","v":5},{"$f":"SUM(NRW!N23:N27)","v":1},{"$f":"SUM(NRW!O23:O27)","v":2},{"$f":"SUM(NRW!P23:P27)","v":0},{"$f":"SUM(NRW!Q23:Q27)","v":0},{"$f":"SUM(NRW!R23:R27)","v":0},null,{"$f":"SUM(NRW!T23:T27)","v":0},{"$f":"SUM(NRW!U23:U27)","v":0},{"$f":"SUM(NRW!V23:V27)","v":0},null,{"$f":"IF(ISERROR(G28/D28),0,G28/D28)","v":0},{"$f":"IF(ISERROR((4*J28+3*I28+2*H28+G28-SUM(H28:J28))/D28),0,(4*J28+3*I28+2*H28+G28-SUM(H28:J28))/D28)","v":0},{"$f":"W28+X28","v":0},{"$f":"IF(ISERROR((G28+L28+M28)/(D28+L28+M28+Q28)),0,(G28+L28+M28)/(D28+L28+M28+Q28))","v":0.54545454545454541},{"$f":"Z28+X28","v":0.54545454545454541},null,{"$f":"IF(ISERROR((S28+T28)/(U28+S28+T28)),0,(S28+T28)/(U28+S28+T28))","v":0}]
[{"$f":"Bayern!A48","v":50},{"$f":"Bayern!B48","v":"Zimmermann"},{"$f":"SUM(Bayern!D48:D52)","v":11},{"$f":"SUM(Bayern!E48:E52)","v":8},{"$f":"SUM(NRW!F55:F59)","v":1},{"$f":"SUM(Bayern!G48:G52)","v":1},{"$f":"SUM(Bayern!H48:H52)","v":1},{"$f":"SUM(Bayern!I48:I52)","v":0},{"$f":"SUM(Bayern!J48:J52)","v":0},{"$f":"SUM(Bayern!K48:K52)","v":0},{"$f":"SUM(Bayern!L48:L52)","v":2},{"$f":"SUM(Bayern!M48:M52)","v":3},{"$f":"SUM(Bayern!N48:N52)","v":0},{"$f":"SUM(Bayern!O48:O52)","v":1},{"$f":"SUM(Bayern!P48:P52)","v":0},{"$f":"SUM(Bayern!Q48:Q52)","v":0},{"$f":"SUM(Bayern!R48:R52)","v":0},null,{"$f":"SUM(Bayern!T48:T52)","v":0},{"$f":"SUM(Bayern!U48:U52)","v":0},{"$f":"SUM(Bayern!V48:V52)","v":0},null,{"$f":"IF(ISERROR(G29/D29),0,G29/D29)","v":0.125},{"$f":"IF(ISERROR((4*J29+3*I29+2*H29+G29-SUM(H29:J29))/D29),0,(4*J29+3*I29+2*H29+G29-SUM(H29:J29))/D29)","v":0.125},{"$f":"W29+X29","v":0.25},{"$f":"IF(ISERROR((G29+L29+M29)/(D29+L29+M29+Q29)),0,(G29+L29+M29)/(D29+L29+M29+Q29))","v":0.36363636363636365},{"$f":"Z29+X29","v":0.48863636363636365},null,{"$f":"IF(ISERROR((S29+T29)/(U29+S29+T29)),0,(S29+T29)/(U29+S29+T29))","v":0}]
[{"$f":"NRW!A43","v":9},{"$f":"NRW!B43","v":"Lucera"},{"$f":"SUM(NRW!D43:D47)","v":7},{"$f":"SUM(NRW!E43:E47)","v":4},{"$f":"SUM(NRW!F23:F27)","v":4},{"$f":"SUM(NRW!G43:G47)","v":0},{"$f":"SUM(NRW!H43:H47)","v":0},{"$f":"SUM(NRW!I43:I47)","v":0},{"$f":"SUM(NRW!J43:J47)","v":0},{"$f":"SUM(NRW!K43:K47)","v":0},{"$f":"SUM(NRW!L43:L47)","v":0},{"$f":"SUM(NRW!M43:M47)","v":2},{"$f":"SUM(NRW!N43:N47)","v":1},{"$f":"SUM(NRW!O43:O47)","v":2},{"$f":"SUM(NRW!P43:P47)","v":0},{"$f":"SUM(NRW!Q43:Q47)","v":0},{"$f":"SUM(NRW!R43:R47)","v":0},null,{"$f":"SUM(NRW!T43:T47)","v":0},{"$f":"SUM(NRW!U43:U47)","v":0},{"$f":"SUM(NRW!V43:V47)","v":0},null,{"$f":"IF(ISERROR(G30/D30),0,G30/D30)","v":0},{"$f":"IF(ISERROR((4*J30+3*I30+2*H30+G30-SUM(H30:J30))/D30),0,(4*J30+3*I30+2*H30+G30-SUM(H30:J30))/D30)","v":0},{"$f":"W30+X30","v":0},{"$f":"IF(ISERROR((G30+L30+M30)/(D30+L30+M30+Q30)),0,(G30+L30+M30)/(D30+L30+M30+Q30))","v":0.42857142857142855},{"$f":"Z30+X30","v":0.42857142857142855},null,{"$f":"IF(ISERROR((S30+T30)/(U30+S30+T30)),0,(S30+T30)/(U30+S30+T30))","v":0}]
[{"$f":"BaWü!A13","v":23},{"$f":"BaWü!B13","v":"Weil"},{"$f":"SUM(BaWü!D13:D17)","v":10},{"$f":"SUM(BaWü!E13:E17)","v":8},{"$f":"SUM(NRW!F47:F50)","v":3},{"$f":"SUM(BaWü!G13:G17)","v":1},{"$f":"SUM(BaWü!H13:H17)","v":1},{"$f":"SUM(BaWü!I13:I17)","v":0},{"$f":"SUM(BaWü!J13:J17)","v":0},{"$f":"SUM(BaWü!K13:K17)","v":0},{"$f":"SUM(BaWü!L13:L17)","v":0},{"$f":"SUM(BaWü!M13:M17)","v":1},{"$f":"SUM(BaWü!N13:N17)","v":1},{"$f":"SUM(BaWü!O13:O17)","v":1},{"$f":"SUM(BaWü!P13:P17)","v":0},{"$f":"SUM(BaWü!Q13:Q17)","v":0},{"$f":"SUM(BaWü!R13:R17)","v":0},null,{"$f":"SUM(BaWü!T13:T17)","v":0},{"$f":"SUM(BaWü!U13:U17)","v":0},{"$f":"SUM(BaWü!V13:V17)","v":0},null,{"$f":"IF(ISERROR(G31/D31),0,G31/D31)","v":0.125},{"$f":"IF(ISERROR((4*J31+3*I31+2*H31+G31-SUM(H31:J31))/D31),0,(4*J31+3*I31+2*H31+G31-SUM(H31:J31))/D31)","v":0.125},{"$f":"W31+X31","v":0.25},{"$f":"IF(ISERROR((G31+L31+M31)/(D31+L31+M31+Q31)),0,(G31+L31+M31)/(D31+L31+M31+Q31))","v":0.3},{"$f":"Z31+X31","v":0.42499999999999999},null,{"$f":"IF(ISERROR((S31+T31)/(U31+S31+T31)),0,(S31+T31)/(U31+S31+T31))","v":0}]
[{"$f":"NRW!A18","v":4},{"$f":"NRW!B18","v":"Elstermeier, J"},{"$f":"SUM(NRW!D18:D22)","v":10},{"$f":"SUM(NRW!E18:E22)","v":6},{"$f":"SUM(NRW!F17:F20)","v":4},{"$f":"SUM(NRW!G18:G22)","v":0},{"$f":"SUM(NRW!H18:H22)","v":0},{"$f":"SUM(NRW!I18:I22)","v":0},{"$f":"SUM(NRW!J18:J22)","v":0},{"$f":"SUM(NRW!K18:K22)","v":0},{"$f":"SUM(NRW!L18:L22)","v":2},{"$f":"SUM(NRW!M18:M22)","v":4},{"$f":"SUM(NRW!N18:N22)","v":0},{"$f":"SUM(NRW!O18:O22)","v":3},{"$f":"SUM(NRW!P18:P22)","v":0},{"$f":"SUM(NRW!Q18:Q22)","v":0},{"$f":"SUM(NRW!R18:R22)","v":0},null,{"$f":"SUM(NRW!T18:T22)","v":0},{"$f":"SUM(NRW!U18:U22)","v":0},{"$f":"SUM(NRW!V18:V22)","v":0},null,{"$f":"IF(ISERROR(G32/D32),0,G32/D32)","v":0},{"$f":"IF(ISERROR((4*J32+3*I32+2*H32+G32-SUM(H32:J32))/D32),0,(4*J32+3*I32+2*H32+G32-SUM(H32:J32))/D32)","v":0},{"$f":"W32+X32","v":0},{"$f":"IF(ISERROR((G32+L32+M32)/(D32+L32+M32+Q32)),0,(G32+L32+M32)/(D32+L32+M32+Q32))","v":0.4},{"$f":"Z32+X32","v":0.4},null,{"$f":"IF(ISERROR((S32+T32)/(U32+S32+T32)),0,(S32+T32)/(U32+S32+T32))","v":0}]
[{"$f":"BaWü!A48","v":30},{"$f":"BaWü!B48","v":"Raupricht"},{"$f":"SUM(BaWü!D48:D52)","v":6},{"$f":"SUM(BaWü!E48:E52)","v":6},{"$f":"SUM(NRW!F35:F39)","v":2},{"$f":"SUM(BaWü!G48:G52)","v":0},{"$f":"SUM(BaWü!H48:H52)","v":1},{"$f":"SUM(BaWü!I48:I52)","v":0},{"$f":"SUM(BaWü!J48:J52)","v":0},{"$f":"SUM(BaWü!K48:K52)","v":0},{"$f":"SUM(BaWü!L48:L52)","v":1},{"$f":"SUM(BaWü!M48:M52)","v":0},{"$f":"SUM(BaWü!N48:N52)","v":0},{"$f":"SUM(BaWü!O48:O52)","v":1},{"$f":"SUM(BaWü!P48:P52)","v":0},{"$f":"SUM(BaWü!Q48:Q52)","v":0},{"$f":"SUM(BaWü!R48:R52)","v":0},null,{"$f":"SUM(BaWü!T48:T52)","v":0},{"$f":"SUM(BaWü!U48:U52)","v":0},{"$f":"SUM(BaWü!V48:V52)","v":0},null,{"$f":"IF(ISERROR(G33/D33),0,G33/D33)","v":0.16666666666666666},{"$f":"IF(ISERROR((4*J33+3*I33+2*H33+G33-SUM(H33:J33))/D33),0,(4*J33+3*I33+2*H33+G33-SUM(H33:J33))/D33)","v":0.16666666666666666},{"$f":"W33+X33","v":0.33333333333333331},{"$f":"IF(ISERROR((G33+L33+M33)/(D33+L33+M33+Q33)),0,(G33+L33+M33)/(D33+L33+M33+Q33))","v":0.16666666666666666},{"$f":"Z33+X33","v":0.33333333333333331},null,{"$f":"IF(ISERROR((S33+T33)/(U33+S33+T33)),0,(S33+T33)/(U33+S33+T33))","v":0}]
[{"$f":"Bayern!A53","v":51},{"$f":"Bayern!B53","v":"Discherl"},{"$f":"SUM(Bayern!D53:D57)","v":3},{"$f":"SUM(Bayern!E53:E57)","v":2},{"$f":"SUM(NRW!F57:F60)","v":1},{"$f":"SUM(Bayern!G53:G57)","v":1},{"$f":"SUM(Bayern!H53:H57)","v":0},{"$f":"SUM(Bayern!I53:I57)","v":0},{"$f":"SUM(Bayern!J53:J57)","v":0},{"$f":"SUM(Bayern!K53:K57)","v":0},{"$f":"SUM(Bayern!L53:L57)","v":1},{"$f":"SUM(Bayern!M53:M57)","v":1},{"$f":"SUM(Bayern!N53:N57)","v":0},{"$f":"SUM(Bayern!O53:O57)","v":0},{"$f":"SUM(Bayern!P53:P57)","v":0},{"$f":"SUM(Bayern!Q53:Q57)","v":0},{"$f":"SUM(Bayern!R53:R57)","v":0},null,{"$f":"SUM(Bayern!T53:T57)","v":0},{"$f":"SUM(Bayern!U53:U57)","v":0},{"$f":"SUM(Bayern!V53:V57)","v":0},null,{"$f":"IF(ISERROR(G34/D34),0,G34/D34)","v":0},{"$f":"IF(ISERROR((4*J34+3*I34+2*H34+G34-SUM(H34:J34))/D34),0,(4*J34+3*I34+2*H34+G34-SUM(H34:J34))/D34)","v":0},{"$f":"W34+X34","v":0},{"$f":"IF(ISERROR((G34+L34+M34)/(D34+L34+M34+Q34)),0,(G34+L34+M34)/(D34+L34+M34+Q34))","v":0.33333333333333331},{"$f":"Z34+X34","v":0.33333333333333331},null,{"$f":"IF(ISERROR((S34+T34)/(U34+S34+T34)),0,(S34+T34)/(U34+S34+T34))","v":0}]
[{"$f":"Bayern!A13","v":43},{"$f":"Bayern!B13","v":"Schnirch"},{"$f":"SUM(Bayern!D13:D17)","v":4},{"$f":"SUM(Bayern!E13:E17)","v":3},{"$f":"SUM(NRW!F65:F69)","v":0},{"$f":"SUM(Bayern!G13:G17)","v":0},{"$f":"SUM(Bayern!H13:H17)","v":0},{"$f":"SUM(Bayern!I13:I17)","v":0},{"$f":"SUM(Bayern!J13:J17)","v":0},{"$f":"SUM(Bayern!K13:K17)","v":0},{"$f":"SUM(Bayern!L13:L17)","v":1},{"$f":"SUM(Bayern!M13:M17)","v":1},{"$f":"SUM(Bayern!N13:N17)","v":0},{"$f":"SUM(Bayern!O13:O17)","v":0},{"$f":"SUM(Bayern!P13:P17)","v":0},{"$f":"SUM(Bayern!Q13:Q17)","v":0},{"$f":"SUM(Bayern!R13:R17)","v":0},null,{"$f":"SUM(Bayern!T13:T17)","v":0},{"$f":"SUM(Bayern!U13:U17)","v":0},{"$f":"SUM(Bayern!V13:V17)","v":0},null,{"$f":"IF(ISERROR(G35/D35),0,G35/D35)","v":0},{"$f":"IF(ISERROR((4*J35+3*I35+2*H35+G35-SUM(H35:J35))/D35),0,(4*J35+3*I35+2*H35+G35-SUM(H35:J35))/D35)","v":0},{"$f":"W35+X35","v":0},{"$f":"IF(ISERROR((G35+L35+M35)/(D35+L35+M35+Q35)),0,(G35+L35+M35)/(D35+L35+M35+Q35))","v":0.25},{"$f":"Z35+X35","v":0.25},null,{"$f":"IF(ISERROR((S35+T35)/(U35+S35+T35)),0,(S35+T35)/(U35+S35+T35))","v":0}]
[{"$f":"BaWü!A43","v":29},{"$f":"BaWü!B43","v":"Gröschel"},{"$f":"SUM(BaWü!D43:D47)","v":4},{"$f":"SUM(BaWü!E43:E47)","v":3},{"$f":"SUM(NRW!F53:F57)","v":1},{"$f":"SUM(BaWü!G43:G47)","v":0},{"$f":"SUM(BaWü!H43:H47)","v":0},{"$f":"SUM(BaWü!I43:I47)","v":0},{"$f":"SUM(BaWü!J43:J47)","v":0},{"$f":"SUM(BaWü!K43:K47)","v":0},{"$f":"SUM(BaWü!L43:L47)","v":0},{"$f":"SUM(BaWü!M43:M47)","v":1},{"$f":"SUM(BaWü!N43:N47)","v":0},{"$f":"SUM(BaWü!O43:O47)","v":0},{"$f":"SUM(BaWü!P43:P47)","v":0},{"$f":"SUM(BaWü!Q43:Q47)","v":0},{"$f":"SUM(BaWü!R43:R47)","v":0},null,{"$f":"SUM(BaWü!T43:T47)","v":0},{"$f":"SUM(BaWü!U43:U47)","v":0},{"$f":"SUM(BaWü!V43:V47)","v":0},null,{"$f":"IF(ISERROR(G36/D36),0,G36/D36)","v":0},{"$f":"IF(ISERROR((4*J36+3*I36+2*H36+G36-SUM(H36:J36))/D36),0,(4*J36+3*I36+2*H36+G36-SUM(H36:J36))/D36)","v":0},{"$f":"W36+X36","v":0},{"$f":"IF(ISERROR((G36+L36+M36)/(D36+L36+M36+Q36)),0,(G36+L36+M36)/(D36+L36+M36+Q36))","v":0.25},{"$f":"Z36+X36","v":0.25},null,{"$f":"IF(ISERROR((S36+T36)/(U36+S36+T36)),0,(S36+T36)/(U36+S36+T36))","v":0}]
[{"$f":"NRW!A28","v":6},{"$f":"NRW!B28","v":"Lankhorst"},{"$f":"SUM(NRW!D28:D32)","v":12},{"$f":"SUM(NRW!E28:E32)","v":8},{"$f":"SUM(NRW!F19:F23)","v":0},{"$f":"SUM(NRW!G28:G32)","v":2},{"$f":"SUM(NRW!H28:H32)","v":0},{"$f":"SUM(NRW!I28:I32)","v":0},{"$f":"SUM(NRW!J28:J32)","v":0},{"$f":"SUM(NRW!K28:K32)","v":0},{"$f":"SUM(NRW!L28:L32)","v":3},{"$f":"SUM(NRW!M28:M32)","v":1},{"$f":"SUM(NRW!N28:N32)","v":1},{"$f":"SUM(NRW!O28:O32)","v":0},{"$f":"SUM(NRW!P28:P32)","v":0},{"$f":"SUM(NRW!Q28:Q32)","v":1},{"$f":"SUM(NRW!R28:R32)","v":1},null,{"$f":"SUM(NRW!T28:T32)","v":0},{"$f":"SUM(NRW!U28:U32)","v":0},{"$f":"SUM(NRW!V28:V32)","v":0},null,{"$f":"IF(ISERROR(G37/D37),0,G37/D37)","v":0},{"$f":"IF(ISERROR((4*J37+3*I37+2*H37+G37-SUM(H37:J37))/D37),0,(4*J37+3*I37+2*H37+G37-SUM(H37:J37))/D37)","v":0},{"$f":"W37+X37","v":0},{"$f":"IF(ISERROR((G37+L37+M37)/(D37+L37+M37+Q37)),0,(G37+L37+M37)/(D37+L37+M37+Q37))","v":0.18181818181818182},{"$f":"Z37+X37","v":0.18181818181818182},null,{"$f":"IF(ISERROR((S37+T37)/(U37+S37+T37)),0,(S37+T37)/(U37+S37+T37))","v":0}]
[{"$f":"NRW!A48","v":10},{"$f":"NRW!B48","v":"Brockmeier"},{"$f":"SUM(NRW!D48:D52)","v":11},{"$f":"SUM(NRW!E48:E52)","v":9},{"$f":"SUM(NRW!F24:F28)","v":4},{"$f":"SUM(NRW!G48:G52)","v":1},{"$f":"SUM(NRW!H48:H52)","v":0},{"$f":"SUM(NRW!I48:I52)","v":0},{"$f":"SUM(NRW!J48:J52)","v":0},{"$f":"SUM(NRW!K48:K52)","v":0},{"$f":"SUM(NRW!L48:L52)","v":0},{"$f":"SUM(NRW!M48:M52)","v":2},{"$f":"SUM(NRW!N48:N52)","v":0},{"$f":"SUM(NRW!O48:O52)","v":4},{"$f":"SUM(NRW!P48:P52)","v":0},{"$f":"SUM(NRW!Q48:Q52)","v":0},{"$f":"SUM(NRW!R48:R52)","v":0},null,{"$f":"SUM(NRW!T48:T52)","v":0},{"$f":"SUM(NRW!U48:U52)","v":0},{"$f":"SUM(NRW!V48:V52)","v":0},null,{"$f":"IF(ISERROR(G38/D38),0,G38/D38)","v":0},{"$f":"IF(ISERROR((4*J38+3*I38+2*H38+G38-SUM(H38:J38))/D38),0,(4*J38+3*I38+2*H38+G38-SUM(H38:J38))/D38)","v":0},{"$f":"W38+X38","v":0},{"$f":"IF(ISERROR((G38+L38+M38)/(D38+L38+M38+Q38)),0,(G38+L38+M38)/(D38+L38+M38+Q38))","v":0.18181818181818182},{"$f":"Z38+X38","v":0.18181818181818182},null,{"$f":"IF(ISERROR((S38+T38)/(U38+S38+T38)),0,(S38+T38)/(U38+S38+T38))","v":0}]
[{"$f":"BaWü!A28","v":26},{"$f":"BaWü!B28","v":"Kortenkamp"},{"$f":"SUM(BaWü!D28:D32)","v":8},{"$f":"SUM(BaWü!E28:E32)","v":7},{"$f":"SUM(BaWü!F28:F32)","v":0},{"$f":"SUM(BaWü!G28:G32)","v":1},{"$f":"SUM(BaWü!H28:H32)","v":0},{"$f":"SUM(BaWü!I28:I32)","v":0},{"$f":"SUM(BaWü!J28:J32)","v":0},{"$f":"SUM(BaWü!K28:K32)","v":0},{"$f":"SUM(BaWü!L28:L32)","v":4},{"$f":"SUM(BaWü!M28:M32)","v":1},{"$f":"SUM(BaWü!N28:N32)","v":0},{"$f":"SUM(BaWü!O28:O32)","v":0},{"$f":"SUM(BaWü!P28:P32)","v":0},{"$f":"SUM(BaWü!Q28:Q32)","v":0},{"$f":"SUM(BaWü!R28:R32)","v":0},null,{"$f":"SUM(BaWü!T28:T32)","v":0},{"$f":"SUM(BaWü!U28:U32)","v":0},{"$f":"SUM(BaWü!V28:V32)","v":0},null,{"$f":"IF(ISERROR(G39/D39),0,G39/D39)","v":0},{"$f":"IF(ISERROR((4*J39+3*I39+2*H39+G39-SUM(H39:J39))/D39),0,(4*J39+3*I39+2*H39+G39-SUM(H39:J39))/D39)","v":0},{"$f":"W39+X39","v":0},{"$f":"IF(ISERROR((G39+L39+M39)/(D39+L39+M39+Q39)),0,(G39+L39+M39)/(D39+L39+M39+Q39))","v":0.125},{"$f":"Z39+X39","v":0.125},null,{"$f":"IF(ISERROR((S39+T39)/(U39+S39+T39)),0,(S39+T39)/(U39+S39+T39))","v":0}]
[{"$f":"BaWü!A58","v":32},{"$f":"BaWü!B58","v":"Kutschera"},{"$f":"SUM(BaWü!D58:D62)","v":1},{"$f":"SUM(BaWü!E58:E62)","v":1},{"$f":"SUM(NRW!F38:F42)","v":1},{"$f":"SUM(BaWü!G58:G62)","v":0},{"$f":"SUM(BaWü!H58:H62)","v":0},{"$f":"SUM(BaWü!I58:I62)","v":0},{"$f":"SUM(BaWü!J58:J62)","v":0},{"$f":"SUM(BaWü!K58:K62)","v":0},{"$f":"SUM(BaWü!L58:L62)","v":1},{"$f":"SUM(BaWü!M58:M62)","v":0},{"$f":"SUM(BaWü!N58:N62)","v":0},{"$f":"SUM(BaWü!O58:O62)","v":0},{"$f":"SUM(BaWü!P58:P62)","v":0},{"$f":"SUM(BaWü!Q58:Q62)","v":0},{"$f":"SUM(BaWü!R58:R62)","v":0},null,{"$f":"SUM(BaWü!T58:T62)","v":0},{"$f":"SUM(BaWü!U58:U62)","v":0},{"$f":"SUM(BaWü!V58:V62)","v":0},null,{"$f":"IF(ISERROR(G40/D40),0,G40/D40)","v":0},{"$f":"IF(ISERROR((4*J40+3*I40+2*H40+G40-SUM(H40:J40))/D40),0,(4*J40+3*I40+2*H40+G40-SUM(H40:J40))/D40)","v":0},{"$f":"W40+X40","v":0},{"$f":"IF(ISERROR((G40+L40+M40)/(D40+L40+M40+Q40)),0,(G40+L40+M40)/(D40+L40+M40+Q40))","v":0},{"$f":"Z40+X40","v":0},null,{"$f":"IF(ISERROR((S40+T40)/(U40+S40+T40)),0,(S40+T40)/(U40+S40+T40))","v":0}]
[{"$f":"Bayern!A78","v":56},{"$f":"Bayern!B78","v":0},{"$f":"SUM(Bayern!D78:D82)","v":0},{"$f":"SUM(Bayern!E78:E82)","v":0},{"$f":"SUM(NRW!F62:F65)","v":1},{"$f":"SUM(Bayern!G78:G82)","v":0},{"$f":"SUM(Bayern!H78:H82)","v":0},{"$f":"SUM(Bayern!I78:I82)","v":0},{"$f":"SUM(Bayern!J78:J82)","v":0},{"$f":"SUM(Bayern!K78:K82)","v":0},{"$f":"SUM(Bayern!L78:L82)","v":0},{"$f":"SUM(Bayern!M78:M82)","v":0},{"$f":"SUM(Bayern!N78:N82)","v":0},{"$f":"SUM(Bayern!O78:O82)","v":0},{"$f":"SUM(Bayern!P78:P82)","v":0},{"$f":"SUM(Bayern!Q78:Q82)","v":0},{"$f":"SUM(Bayern!R78:R82)","v":0},null,{"$f":"SUM(Bayern!T78:T82)","v":0},{"$f":"SUM(Bayern!U78:U82)","v":0},{"$f":"SUM(Bayern!V78:V82)","v":0},null,{"$f":"IF(ISERROR(G41/D41),0,G41/D41)","v":0},{"$f":"IF(ISERROR((4*J41+3*I41+2*H41+G41-SUM(H41:J41))/D41),0,(4*J41+3*I41+2*H41+G41-SUM(H41:J41))/D41)","v":0},{"$f":"W41+X41","v":0},{"$f":"IF(ISERROR((G41+L41+M41)/(D41+L41+M41+Q41)),0,(G41+L41+M41)/(D41+L41+M41+Q41))","v":0},{"$f":"Z41+X41","v":0},null,{"$f":"IF(ISERROR((S41+T41)/(U41+S41+T41)),0,(S41+T41)/(U41+S41+T41))","v":0}]
[{"$f":"BaWü!A53","v":31},{"$f":"BaWü!B53","v":"Bär"},{"$f":"SUM(BaWü!D53:D57)","v":0},{"$f":"SUM(BaWü!E53:E57)","v":0},{"$f":"SUM(NRW!F37:F40)","v":1},{"$f":"SUM(BaWü!G53:G57)","v":0},{"$f":"SUM(BaWü!H53:H57)","v":0},{"$f":"SUM(BaWü!I53:I57)","v":0},{"$f":"SUM(BaWü!J53:J57)","v":0},{"$f":"SUM(BaWü!K53:K57)","v":0},{"$f":"SUM(BaWü!L53:L57)","v":0},{"$f":"SUM(BaWü!M53:M57)","v":0},{"$f":"SUM(BaWü!N53:N57)","v":0},{"$f":"SUM(BaWü!O53:O57)","v":0},{"$f":"SUM(BaWü!P53:P57)","v":0},{"$f":"SUM(BaWü!Q53:Q57)","v":0},{"$f":"SUM(BaWü!R53:R57)","v":0},null,{"$f":"SUM(BaWü!T53:T57)","v":0},{"$f":"SUM(BaWü!U53:U57)","v":0},{"$f":"SUM(BaWü!V53:V57)","v":0},null,{"$f":"IF(ISERROR(G42/D42),0,G42/D42)","v":0},{"$f":"IF(ISERROR((4*J42+3*I42+2*H42+G42-SUM(H42:J42))/D42),0,(4*J42+3*I42+2*H42+G42-SUM(H42:J42))/D42)","v":0},{"$f":"W42+X42","v":0},{"$f":"IF(ISERROR((G42+L42+M42)/(D42+L42+M42+Q42)),0,(G42+L42+M42)/(D42+L42+M42+Q42))","v":0},{"$f":"Z42+X42","v":0},null,{"$f":"IF(ISERROR((S42+T42)/(U42+S42+T42)),0,(S42+T42)/(U42+S42+T42))","v":0}]
[{"$f":"BaWü!A68","v":34},{"$f":"BaWü!B68","v":0},{"$f":"SUM(BaWü!D68:D72)","v":0},{"$f":"SUM(BaWü!E68:E72)","v":0},{"$f":"SUM(NRW!F40:F44)","v":1},{"$f":"SUM(BaWü!G68:G72)","v":0},{"$f":"SUM(BaWü!H68:H72)","v":0},{"$f":"SUM(BaWü!I68:I72)","v":0},{"$f":"SUM(BaWü!J68:J72)","v":0},{"$f":"SUM(BaWü!K68:K72)","v":0},{"$f":"SUM(BaWü!L68:L72)","v":0},{"$f":"SUM(BaWü!M68:M72)","v":0},{"$f":"SUM(BaWü!N68:N72)","v":0},{"$f":"SUM(BaWü!O68:O72)","v":0},{"$f":"SUM(BaWü!P68:P72)","v":0},{"$f":"SUM(BaWü!Q68:Q72)","v":0},{"$f":"SUM(BaWü!R68:R72)","v":0},null,{"$f":"SUM(BaWü!T68:T72)","v":0},{"$f":"SUM(BaWü!U68:U72)","v":0},{"$f":"SUM(BaWü!V68:V72)","v":0},null,{"$f":"IF(ISERROR(G43/D43),0,G43/D43)","v":0},{"$f":"IF(ISERROR((4*J43+3*I43+2*H43+G43-SUM(H43:J43))/D43),0,(4*J43+3*I43+2*H43+G43-SUM(H43:J43))/D43)","v":0},{"$f":"W43+X43","v":0},{"$f":"IF(ISERROR((G43+L43+M43)/(D43+L43+M43+Q43)),0,(G43+L43+M43)/(D43+L43+M43+Q43))","v":0},{"$f":"Z43+X43","v":0},null,{"$f":"IF(ISERROR((S43+T43)/(U43+S43+T43)),0,(S43+T43)/(U43+S43+T43))","v":0}]
[{"$f":"NRW!A68","v":14},{"$f":"NRW!B68","v":0},{"$f":"SUM(NRW!D68:D72)","v":0},{"$f":"SUM(NRW!E68:E72)","v":0},{"$f":"SUM(NRW!F29:F33)","v":0},{"$f":"SUM(NRW!G68:G72)","v":0},{"$f":"SUM(NRW!H68:H72)","v":0},{"$f":"SUM(NRW!I68:I72)","v":0},{"$f":"SUM(NRW!J68:J72)","v":0},{"$f":"SUM(NRW!K68:K72)","v":0},{"$f":"SUM(NRW!L68:L72)","v":0},{"$f":"SUM(NRW!M68:M72)","v":0},{"$f":"SUM(NRW!N68:N72)","v":0},{"$f":"SUM(NRW!O68:O72)","v":0},{"$f":"SUM(NRW!P68:P72)","v":0},{"$f":"SUM(NRW!Q68:Q72)","v":0},{"$f":"SUM(NRW!R68:R72)","v":0},null,{"$f":"SUM(NRW!T68:T72)","v":0},{"$f":"SUM(NRW!U68:U72)","v":0},{"$f":"SUM(NRW!V68:V72)","v":0},null,{"$f":"IF(ISERROR(G44/D44),0,G44/D44)","v":0},{"$f":"IF(ISERROR((4*J44+3*I44+2*H44+G44-SUM(H44:J44))/D44),0,(4*J44+3*I44+2*H44+G44-SUM(H44:J44))/D44)","v":0},{"$f":"W44+X44","v":0},{"$f":"IF(ISERROR((G44+L44+M44)/(D44+L44+M44+Q44)),0,(G44+L44+M44)/(D44+L44+M44+Q44))","v":0},{"$f":"Z44+X44","v":0},null,{"$f":"IF(ISERROR((S44+T44)/(U44+S44+T44)),0,(S44+T44)/(U44+S44+T44))","v":0}]
[{"$f":"Bayern!A73","v":55},{"$f":"Bayern!B73","v":0},{"$f":"SUM(Bayern!D73:D77)","v":0},{"$f":"SUM(Bayern!E73:E77)","v":0},{"$f":"SUM(Bayern!F73:F77)","v":0},{"$f":"SUM(Bayern!G73:G77)","v":0},{"$f":"SUM(Bayern!H73:H77)","v":0},{"$f":"SUM(Bayern!I73:I77)","v":0},{"$f":"SUM(Bayern!J73:J77)","v":0},{"$f":"SUM(Bayern!K73:K77)","v":0},{"$f":"SUM(Bayern!L73:L77)","v":0},{"$f":"SUM(Bayern!M73:M77)","v":0},{"$f":"SUM(Bayern!N73:N77)","v":0},{"$f":"SUM(Bayern!O73:O77)","v":0},{"$f":"SUM(Bayern!P73:P77)","v":0},{"$f":"SUM(Bayern!Q73:Q77)","v":0},{"$f":"SUM(Bayern!R73:R77)","v":0},null,{"$f":"SUM(Bayern!T73:T77)","v":0},{"$f":"SUM(Bayern!U73:U77)","v":0},{"$f":"SUM(Bayern!V73:V77)","v":0},null,{"$f":"IF(ISERROR(G45/D45),0,G45/D45)","v":0},{"$f":"IF(ISERROR((4*J45+3*I45+2*H45+G45-SUM(H45:J45))/D45),0,(4*J45+3*I45+2*H45+G45-SUM(H45:J45))/D45)","v":0},{"$f":"W45+X45","v":0},{"$f":"IF(ISERROR((G45+L45+M45)/(D45+L45+M45+Q45)),0,(G45+L45+M45)/(D45+L45+M45+Q45))","v":0},{"$f":"Z45+X45","v":0},null,{"$f":"IF(ISERROR((S45+T45)/(U45+S45+T45)),0,(S45+T45)/(U45+S45+T45))","v":0}]
[{"$f":"NRW!A53","v":11},{"$f":"NRW!B53","v":"Prellwitz"},{"$f":"SUM(NRW!D53:D57)","v":0},{"$f":"SUM(NRW!E53:E57)","v":0},{"$f":"SUM(NRW!F25:F29)","v":0},{"$f":"SUM(NRW!G53:G57)","v":0},{"$f":"SUM(NRW!H53:H57)","v":0},{"$f":"SUM(NRW!I53:I57)","v":0},{"$f":"SUM(NRW!J53:J57)","v":0},{"$f":"SUM(NRW!K53:K57)","v":0},{"$f":"SUM(NRW!L53:L57)","v":0},{"$f":"SUM(NRW!M53:M57)","v":0},{"$f":"SUM(NRW!N53:N57)","v":0},{"$f":"SUM(NRW!O53:O57)","v":0},{"$f":"SUM(NRW!P53:P57)","v":0},{"$f":"SUM(NRW!Q53:Q57)","v":0},{"$f":"SUM(NRW!R53:R57)","v":0},null,{"$f":"SUM(NRW!T53:T57)","v":0},{"$f":"SUM(NRW!U53:U57)","v":0},{"$f":"SUM(NRW!V53:V57)","v":0},null,{"$f":"IF(ISERROR(G46/D46),0,G46/D46)","v":0},{"$f":"IF(ISERROR((4*J46+3*I46+2*H46+G46-SUM(H46:J46))/D46),0,(4*J46+3*I46+2*H46+G46-SUM(H46:J46))/D46)","v":0},{"$f":"W46+X46","v":0},{"$f":"IF(ISERROR((G46+L46+M46)/(D46+L46+M46+Q46)),0,(G46+L46+M46)/(D46+L46+M46+Q46))","v":0},{"$f":"Z46+X46","v":0},null,{"$f":"IF(ISERROR((S46+T46)/(U46+S46+T46)),0,(S46+T46)/(U46+S46+T46))","v":0}]
[{"$f":"NRW!A73","v":15},{"$f":"NRW!B73","v":0},{"$f":"SUM(NRW!D73:D77)","v":0},{"$f":"SUM(NRW!E73:E77)","v":0},{"$f":"SUM(NRW!F30:F34)","v":3},{"$f":"SUM(NRW!G73:G77)","v":0},{"$f":"SUM(NRW!H73:H77)","v":0},{"$f":"SUM(NRW!I73:I77)","v":0},{"$f":"SUM(NRW!J73:J77)","v":0},{"$f":"SUM(NRW!K73:K77)","v":0},{"$f":"SUM(NRW!L73:L77)","v":0},{"$f":"SUM(NRW!M73:M77)","v":0},{"$f":"SUM(NRW!N73:N77)","v":0},{"$f":"SUM(NRW!O73:O77)","v":0},{"$f":"SUM(NRW!P73:P77)","v":0},{"$f":"SUM(NRW!Q73:Q77)","v":0},{"$f":"SUM(NRW!R73:R77)","v":0},null,{"$f":"SUM(NRW!T73:T77)","v":0},{"$f":"SUM(NRW!U73:U77)","v":0},{"$f":"SUM(NRW!V73:V77)","v":0},null,{"$f":"IF(ISERROR(G47/D47),0,G47/D47)","v":0},{"$f":"IF(ISERROR((4*J47+3*I47+2*H47+G47-SUM(H47:J47))/D47),0,(4*J47+3*I47+2*H47+G47-SUM(H47:J47))/D47)","v":0},{"$f":"W47+X47","v":0},{"$f":"IF(ISERROR((G47+L47+M47)/(D47+L47+M47+Q47)),0,(G47+L47+M47)/(D47+L47+M47+Q47))","v":0},{"$f":"Z47+X47","v":0},null,{"$f":"IF(ISERROR((S47+T47)/(U47+S47+T47)),0,(S47+T47)/(U47+S47+T47))","v":0}]
[{"$f":"NRW!A78","v":16},{"$f":"NRW!B78","v":0},{"$f":"SUM(NRW!D78:D82)","v":0},{"$f":"SUM(NRW!E78:E82)","v":0},{"$f":"SUM(NRW!F32:F35)","v":4},{"$f":"SUM(NRW!G78:G82)","v":0},{"$f":"SUM(NRW!H78:H82)","v":0},{"$f":"SUM(NRW!I78:I82)","v":0},{"$f":"SUM(NRW!J78:J82)","v":0},{"$f":"SUM(NRW!K78:K82)","v":0},{"$f":"SUM(NRW!L78:L82)","v":0},{"$f":"SUM(NRW!M78:M82)","v":0},{"$f":"SUM(NRW!N78:N82)","v":0},{"$f":"SUM(NRW!O78:O82)","v":0},{"$f":"SUM(NRW!P78:P82)","v":0},{"$f":"SUM(NRW!Q78:Q82)","v":0},{"$f":"SUM(NRW!R78:R82)","v":0},null,{"$f":"SUM(NRW!T78:T82)","v":0},{"$f":"SUM(NRW!U78:U82)","v":0},{"$f":"SUM(NRW!V78:V82)","v":0},null,{"$f":"IF(ISERROR(G48/D48),0,G48/D48)","v":0},{"$f":"IF(ISERROR((4*J48+3*I48+2*H48+G48-SUM(H48:J48))/D48),0,(4*J48+3*I48+2*H48+G48-SUM(H48:J48))/D48)","v":0},{"$f":"W48+X48","v":0},{"$f":"IF(ISERROR((G48+L48+M48)/(D48+L48+M48+Q48)),0,(G48+L48+M48)/(D48+L48+M48+Q48))","v":0},{"$f":"Z48+X48","v":0},null,{"$f":"IF(ISERROR((S48+T48)/(U48+S48+T48)),0,(S48+T48)/(U48+S48+T48))","v":0}]
[{"$f":"NRW!A83","v":17},{"$f":"NRW!B83","v":0},{"$f":"SUM(NRW!D83:D87)","v":0},{"$f":"SUM(NRW!E83:E87)","v":0},{"$f":"SUM(NRW!F33:F37)","v":4},{"$f":"SUM(NRW!G83:G87)","v":0},{"$f":"SUM(NRW!H83:H87)","v":0},{"$f":"SUM(NRW!I83:I87)","v":0},{"$f":"SUM(NRW!J83:J87)","v":0},{"$f":"SUM(NRW!K83:K87)","v":0},{"$f":"SUM(NRW!L83:L87)","v":0},{"$f":"SUM(NRW!M83:M87)","v":0},{"$f":"SUM(NRW!N83:N87)","v":0},{"$f":"SUM(NRW!O83:O87)","v":0},{"$f":"SUM(NRW!P83:P87)","v":0},{"$f":"SUM(NRW!Q83:Q87)","v":0},{"$f":"SUM(NRW!R83:R87)","v":0},null,{"$f":"SUM(NRW!T83:T87)","v":0},{"$f":"SUM(NRW!U83:U87)","v":0},{"$f":"SUM(NRW!V83:V87)","v":0},null,{"$f":"IF(ISERROR(G49/D49),0,G49/D49)","v":0},{"$f":"IF(ISERROR((4*J49+3*I49+2*H49+G49-SUM(H49:J49))/D49),0,(4*J49+3*I49+2*H49+G49-SUM(H49:J49))/D49)","v":0},{"$f":"W49+X49","v":0},{"$f":"IF(ISERROR((G49+L49+M49)/(D49+L49+M49+Q49)),0,(G49+L49+M49)/(D49+L49+M49+Q49))","v":0},{"$f":"Z49+X49","v":0},null,{"$f":"IF(ISERROR((S49+T49)/(U49+S49+T49)),0,(S49+T49)/(U49+S49+T49))","v":0}]
[{"$f":"BaWü!A73","v":35},{"$f":"BaWü!B73","v":0},{"$f":"SUM(BaWü!D73:D77)","v":0},{"$f":"SUM(BaWü!E73:E77)","v":0},{"$f":"SUM(NRW!F42:F45)","v":1},{"$f":"SUM(BaWü!G73:G77)","v":0},{"$f":"SUM(BaWü!H73:H77)","v":0},{"$f":"SUM(BaWü!I73:I77)","v":0},{"$f":"SUM(BaWü!J73:J77)","v":0},{"$f":"SUM(BaWü!K73:K77)","v":0},{"$f":"SUM(BaWü!L73:L77)","v":0},{"$f":"SUM(BaWü!M73:M77)","v":0},{"$f":"SUM(BaWü!N73:N77)","v":0},{"$f":"SUM(BaWü!O73:O77)","v":0},{"$f":"SUM(BaWü!P73:P77)","v":0},{"$f":"SUM(BaWü!Q73:Q77)","v":0},{"$f":"SUM(BaWü!R73:R77)","v":0},null,{"$f":"SUM(BaWü!T73:T77)","v":0},{"$f":"SUM(BaWü!U73:U77)","v":0},{"$f":"SUM(BaWü!V73:V77)","v":0},null,{"$f":"IF(ISERROR(G50/D50),0,G50/D50)","v":0},{"$f":"IF(ISERROR((4*J50+3*I50+2*H50+G50-SUM(H50:J50))/D50),0,(4*J50+3*I50+2*H50+G50-SUM(H50:J50))/D50)","v":0},{"$f":"W50+X50","v":0},{"$f":"IF(ISERROR((G50+L50+M50)/(D50+L50+M50+Q50)),0,(G50+L50+M50)/(D50+L50+M50+Q50))","v":0},{"$f":"Z50+X50","v":0},null,{"$f":"IF(ISERROR((S50+T50)/(U50+S50+T50)),0,(S50+T50)/(U50+S50+T50))","v":0}]
[{"$f":"BaWü!A78","v":36},{"$f":"BaWü!B78","v":0},{"$f":"SUM(BaWü!D78:D82)","v":0},{"$f":"SUM(BaWü!E78:E82)","v":0},{"$f":"SUM(NRW!F43:F47)","v":1},{"$f":"SUM(BaWü!G78:G82)","v":0},{"$f":"SUM(BaWü!H78:H82)","v":0},{"$f":"SUM(BaWü!I78:I82)","v":0},{"$f":"SUM(BaWü!J78:J82)","v":0},{"$f":"SUM(BaWü!K78:K82)","v":0},{"$f":"SUM(BaWü!L78:L82)","v":0},{"$f":"SUM(BaWü!M78:M82)","v":0},{"$f":"SUM(BaWü!N78:N82)","v":0},{"$f":"SUM(BaWü!O78:O82)","v":0},{"$f":"SUM(BaWü!P78:P82)","v":0},{"$f":"SUM(BaWü!Q78:Q82)","v":0},{"$f":"SUM(BaWü!R78:R82)","v":0},null,{"$f":"SUM(BaWü!T78:T82)","v":0},{"$f":"SUM(BaWü!U78:U82)","v":0},{"$f":"SUM(BaWü!V78:V82)","v":0},null,{"$f":"IF(ISERROR(G51/D51),0,G51/D51)","v":0},{"$f":"IF(ISERROR((4*J51+3*I51+2*H51+G51-SUM(H51:J51))/D51),0,(4*J51+3*I51+2*H51+G51-SUM(H51:J51))/D51)","v":0},{"$f":"W51+X51","v":0},{"$f":"IF(ISERROR((G51+L51+M51)/(D51+L51+M51+Q51)),0,(G51+L51+M51)/(D51+L51+M51+Q51))","v":0},{"$f":"Z51+X51","v":0},null,{"$f":"IF(ISERROR((S51+T51)/(U51+S51+T51)),0,(S51+T51)/(U51+S51+T51))","v":0}]
[{"$f":"BaWü!A83","v":37},{"$f":"BaWü!B83","v":0},{"$f":"SUM(BaWü!D83:D87)","v":0},{"$f":"SUM(BaWü!E83:E87)","v":0},{"$f":"SUM(NRW!F44:F48)","v":2},{"$f":"SUM(BaWü!G83:G87)","v":0},{"$f":"SUM(BaWü!H83:H87)","v":0},{"$f":"SUM(BaWü!I83:I87)","v":0},{"$f":"SUM(BaWü!J83:J87)","v":0},{"$f":"SUM(BaWü!K83:K87)","v":0},{"$f":"SUM(BaWü!L83:L87)","v":0},{"$f":"SUM(BaWü!M83:M87)","v":0},{"$f":"SUM(BaWü!N83:N87)","v":0},{"$f":"SUM(BaWü!O83:O87)","v":0},{"$f":"SUM(BaWü!P83:P87)","v":0},{"$f":"SUM(BaWü!Q83:Q87)","v":0},{"$f":"SUM(BaWü!R83:R87)","v":0},null,{"$f":"SUM(BaWü!T83:T87)","v":0},{"$f":"SUM(BaWü!U83:U87)","v":0},{"$f":"SUM(BaWü!V83:V87)","v":0},null,{"$f":"IF(ISERROR(G52/D52),0,G52/D52)","v":0},{"$f":"IF(ISERROR((4*J52+3*I52+2*H52+G52-SUM(H52:J52))/D52),0,(4*J52+3*I52+2*H52+G52-SUM(H52:J52))/D52)","v":0},{"$f":"W52+X52","v":0},{"$f":"IF(ISERROR((G52+L52+M52)/(D52+L52+M52+Q52)),0,(G52+L52+M52)/(D52+L52+M52+Q52))","v":0},{"$f":"Z52+X52","v":0},null,{"$f":"IF(ISERROR((S52+T52)/(U52+S52+T52)),0,(S52+T52)/(U52+S52+T52))","v":0}]
[{"$f":"Bayern!A83","v":57},{"$f":"Bayern!B83","v":0},{"$f":"SUM(Bayern!D83:D87)","v":0},{"$f":"SUM(Bayern!E83:E87)","v":0},{"$f":"SUM(NRW!F63:F67)","v":1},{"$f":"SUM(Bayern!G83:G87)","v":0},{"$f":"SUM(Bayern!H83:H87)","v":0},{"$f":"SUM(Bayern!I83:I87)","v":0},{"$f":"SUM(Bayern!J83:J87)","v":0},{"$f":"SUM(Bayern!K83:K87)","v":0},{"$f":"SUM(Bayern!L83:L87)","v":0},{"$f":"SUM(Bayern!M83:M87)","v":0},{"$f":"SUM(Bayern!N83:N87)","v":0},{"$f":"SUM(Bayern!O83:O87)","v":0},{"$f":"SUM(Bayern!P83:P87)","v":0},{"$f":"SUM(Bayern!Q83:Q87)","v":0},{"$f":"SUM(Bayern!R83:R87)","v":0},null,{"$f":"SUM(Bayern!T83:T87)","v":0},{"$f":"SUM(Bayern!U83:U87)","v":0},{"$f":"SUM(Bayern!V83:V87)","v":0},null,{"$f":"IF(ISERROR(G53/D53),0,G53/D53)","v":0},{"$f":"IF(ISERROR((4*J53+3*I53+2*H53+G53-SUM(H53:J53))/D53),0,(4*J53+3*I53+2*H53+G53-SUM(H53:J53))/D53)","v":0},{"$f":"W53+X53","v":0},{"$f":"IF(ISERROR((G53+L53+M53)/(D53+L53+M53+Q53)),0,(G53+L53+M53)/(D53+L53+M53+Q53))","v":0},{"$f":"Z53+X53","v":0},null,{"$f":"IF(ISERROR((S53+T53)/(U53+S53+T53)),0,(S53+T53)/(U53+S53+T53))","v":0}]

{"sheet":"Pitching","index":4,"n_rows":72,"n_cols":22,"rows_kept":72,"cut":false,"hidden":false,"merged":[]}
["ID","Spieler","Gegner","IP","BF","AB","R","ER","H","2B","3B","HR","K","BB","HP","SH","SF","WP","BK","W","L","S"]
[61,"Weil","HF",1,8,5,3,null,1,null,null,null,1,2,1,null,null,3,null,null,"L"]
[]
[]
[]
[]
[62,"Fries","HF",5,23,16,7,5,3,null,null,null,3,5,1,null,null,1]
[null,null,"Bayern ",2.7,19,10,7,null,3,null,null,null,4,8,null,1,null,3,null,null,"L"]
[null,null,"NRW",3.3,26,15,12,8,4,1,1,null,5,10,1,null,null,10,null,null,"L"]
[]
[]
[63,"Lankhorst","HF",7,30,26,5,3,3,null,1,null,9,2,1,1,null,null,null,"W"]
[null,null,"BaWü",1,10,5,3,3,2,null,null,null,1,5,null,null,null,5]
[null,null,"Finale",7,41,26,10,2,6,2,null,null,4,13,1,1,null,2,null,"L"]
[]
[]
[64,"Grieschl","Bayern",2.2999999999999998,14,6,3,2,null,null,null,null,1,7,null,null,null,2]
[null,null,"NRW",0.33,5,2,4,4,1,null,1,null,null,3,null,null,null,1]
[]
[]
[]
[65,"Ullmann","BaWü",5,24,16,3,1,3,1,null,null,6,6,1,1,null,2,null,"W"]
[null,null,"Finale",5,23,15,null,null,1,null,null,null,2,6,null,2,null,1]
[]
[]
[]
[66,"Hager","BaWü",3,17,12,5,4,5,null,null,null,null,3,1,1,null,1,null,"W"]
[null,null,"Bayern",2.33,16,10,5,4,4,null,null,null,null,4,1,1]
[]
[]
[]
[67,"Rauprich","NRW",null,4,1,2,2,1,null,null,null,null,3]
[]
[]
[]
[]
[68,"Parpart","Bayern",2,17,7,6,4,1,null,null,null,1,7,null,3,null,1,null,null,"L"]
[]
[]
[]
[]
[69,"Stepniak","NRW",5,25,16,4,4,3,null,null,null,6,9,null,null,null,4,null,"W"]
[null,null,"Finale",2,9,9,2,null,1,null,null,null,3,null,null,null,null,null,null,"W"]
[]
[]
[]
[70,"Dirschl","Finale",0,4,2,4,4,2,null,null,null,null,2,null,null,null,2]
[]
[]
[]
[]
[71]
[]
[]
[]
[]
[72]
[]
[]
[]
[]
[73]
[]
[]
[]
[]
[74]
[]
[]
[]
[]
[75]

{"sheet":"Pitching Leaders","index":5,"n_rows":17,"n_cols":26,"rows_kept":17,"cut":false,"hidden":false,"merged":[[0,2,0,20],[0,22,0,25]]}
[null,null,"Pitching",null,null,null,null,null,null,null,null,null,null,null,null,null,null,null,null,null,null,null,"Pitching Percentage"]
["ID","Spieler","IP","BF","AB","R","ER","H","2B","3B","HR","K","BB","HP","SH","SF","WP","BK","W","L","S",null,"ERA","K/IP","WHIP","OAVG"]
[{"$f":"Pitching!A2","v":61},{"$f":"Pitching!B2","v":"Weil"},{"$f":"SUM(Pitching!D2:D6)","v":1},{"$f":"SUM(Pitching!E2:E6)","v":8},{"$f":"SUM(Pitching!F2:F6)","v":5},{"$f":"SUM(Pitching!G2:G6)","v":3},{"$f":"SUM(Pitching!H2:H6)","v":0},{"$f":"SUM(Pitching!I2:I6)","v":1},{"$f":"SUM(Pitching!J2:J6)","v":0},{"$f":"SUM(Pitching!K2:K6)","v":0},{"$f":"SUM(Pitching!L2:L6)","v":0},{"$f":"SUM(Pitching!M2:M6)","v":1},{"$f":"SUM(Pitching!N2:N6)","v":2},{"$f":"SUM(Pitching!O2:O6)","v":1},{"$f":"SUM(Pitching!P2:P6)","v":0},{"$f":"SUM(Pitching!Q2:Q6)","v":0},{"$f":"SUM(Pitching!R2:R6)","v":3},{"$f":"SUM(Pitching!S2:S6)","v":0},{"$f":"COUNTA(Pitching!T2:T6)","v":0},{"$f":"COUNTA(Pitching!U2:U6)","v":1},{"$f":"COUNTA(Pitching!V2:V6)","v":0},null,{"$f":"IF(ISERROR(7*G3/C3),\"-\",7*G3/C3)","v":0},{"$f":"IF(ISERROR(L3/C3),0,L3/C3)","v":1},{"$f":"IF(ISERROR((M3+H3)/C3),0,(M3+H3)/C3)","v":3},{"$f":"IF(ISERROR(H3/E3),0,(H3/E3))","v":0.2}]
[{"$f":"Pitching!A22","v":65},{"$f":"Pitching!B22","v":"Ullmann"},{"$f":"SUM(Pitching!D22:D26)","v":10},{"$f":"SUM(Pitching!E22:E26)","v":47},{"$f":"SUM(Pitching!F22:F26)","v":31},{"$f":"SUM(Pitching!G22:G26)","v":3},{"$f":"SUM(Pitching!H22:H26)","v":1},{"$f":"SUM(Pitching!I22:I26)","v":4},{"$f":"SUM(Pitching!J22:J26)","v":1},{"$f":"SUM(Pitching!K22:K26)","v":0},{"$f":"SUM(Pitching!L22:L26)","v":0},{"$f":"SUM(Pitching!M22:M26)","v":8},{"$f":"SUM(Pitching!N22:N26)","v":12},{"$f":"SUM(Pitching!O22:O26)","v":1},{"$f":"SUM(Pitching!P22:P26)","v":3},{"$f":"SUM(Pitching!Q22:Q26)","v":0},{"$f":"SUM(Pitching!R22:R26)","v":3},{"$f":"SUM(Pitching!S22:S26)","v":0},{"$f":"COUNTA(Pitching!T22:T26)","v":1},{"$f":"COUNTA(Pitching!U22:U26)","v":0},{"$f":"COUNTA(Pitching!V22:V26)","v":0},null,{"$f":"IF(ISERROR(7*G4/C4),\"-\",7*G4/C4)","v":0.7},{"$f":"IF(ISERROR(L4/C4),0,L4/C4)","v":0.8},{"$f":"IF(ISERROR((M4+H4)/C4),0,(M4+H4)/C4)","v":1.6},{"$f":"IF(ISERROR(H4/E4),0,(H4/E4))","v":0.12903225806451613}]
[{"$f":"Pitching!A12","v":63},{"$f":"Pitching!B12","v":"Lankhorst"},{"$f":"SUM(Pitching!D12:D16)","v":15},{"$f":"SUM(Pitching!E12:E16)","v":81},{"$f":"SUM(Pitching!F12:F16)","v":57},{"$f":"SUM(Pitching!G12:G16)","v":18},{"$f":"SUM(Pitching!H12:H16)","v":8},{"$f":"SUM(Pitching!I12:I16)","v":11},{"$f":"SUM(Pitching!J12:J16)","v":2},{"$f":"SUM(Pitching!K12:K16)","v":1},{"$f":"SUM(Pitching!L12:L16)","v":0},{"$f":"SUM(Pitching!M12:M16)","v":14},{"$f":"SUM(Pitching!N12:N16)","v":20},{"$f":"SUM(Pitching!O12:O16)","v":2},{"$f":"SUM(Pitching!P12:P16)","v":2},{"$f":"SUM(Pitching!Q12:Q16)","v":0},{"$f":"SUM(Pitching!R12:R16)","v":7},{"$f":"SUM(Pitching!S12:S16)","v":0},{"$f":"COUNTA(Pitching!T12:T16)","v":2},{"$f":"COUNTA(Pitching!U12:U16)","v":0},{"$f":"COUNTA(Pitching!V12:V16)","v":0},null,{"$f":"IF(ISERROR(7*G5/C5),\"-\",7*G5/C5)","v":3.7333333333333334},{"$f":"IF(ISERROR(L5/C5),0,L5/C5)","v":0.93333333333333335},{"$f":"IF(ISERROR((M5+H5)/C5),0,(M5+H5)/C5)","v":2.0666666666666669},{"$f":"IF(ISERROR(H5/E5),0,(H5/E5))","v":0.19298245614035087}]
[{"$f":"Pitching!A42","v":69},{"$f":"Pitching!B42","v":"Stepniak"},{"$f":"SUM(Pitching!D42:D46)","v":7},{"$f":"SUM(Pitching!E42:E46)","v":34},{"$f":"SUM(Pitching!F42:F46)","v":25},{"$f":"SUM(Pitching!G42:G46)","v":6},{"$f":"SUM(Pitching!H42:H46)","v":4},{"$f":"SUM(Pitching!I42:I46)","v":4},{"$f":"SUM(Pitching!J42:J46)","v":0},{"$f":"SUM(Pitching!K42:K46)","v":0},{"$f":"SUM(Pitching!L42:L46)","v":0},{"$f":"SUM(Pitching!M42:M46)","v":9},{"$f":"SUM(Pitching!N42:N46)","v":9},{"$f":"SUM(Pitching!O42:O46)","v":0},{"$f":"SUM(Pitching!P42:P46)","v":0},{"$f":"SUM(Pitching!Q42:Q46)","v":0},{"$f":"SUM(Pitching!R42:R46)","v":4},{"$f":"SUM(Pitching!S42:S46)","v":0},{"$f":"COUNTA(Pitching!T42:T46)","v":2},{"$f":"COUNTA(Pitching!U42:U46)","v":0},{"$f":"COUNTA(Pitching!V42:V46)","v":0},null,{"$f":"IF(ISERROR(7*G6/C6),\"-\",7*G6/C6)","v":4},{"$f":"IF(ISERROR(L6/C6),0,L6/C6)","v":1.2857142857142858},{"$f":"IF(ISERROR((M6+H6)/C6),0,(M6+H6)/C6)","v":1.8571428571428572},{"$f":"IF(ISERROR(H6/E6),0,(H6/E6))","v":0.16}]
[{"$f":"Pitching!A7","v":62},{"$f":"Pitching!B7","v":"Fries"},{"$f":"SUM(Pitching!D7:D11)","v":11},{"$f":"SUM(Pitching!E7:E11)","v":68},{"$f":"SUM(Pitching!F7:F11)","v":41},{"$f":"SUM(Pitching!G7:G11)","v":26},{"$f":"SUM(Pitching!H7:H11)","v":13},{"$f":"SUM(Pitching!I7:I11)","v":10},{"$f":"SUM(Pitching!J7:J11)","v":1},{"$f":"SUM(Pitching!K7:K11)","v":1},{"$f":"SUM(Pitching!L7:L11)","v":0},{"$f":"SUM(Pitching!M7:M11)","v":12},{"$f":"SUM(Pitching!N7:N11)","v":23},{"$f":"SUM(Pitching!O7:O11)","v":2},{"$f":"SUM(Pitching!P7:P11)","v":1},{"$f":"SUM(Pitching!Q7:Q11)","v":0},{"$f":"SUM(Pitching!R7:R11)","v":14},{"$f":"SUM(Pitching!S7:S11)","v":0},{"$f":"COUNTA(Pitching!T7:T11)","v":0},{"$f":"COUNTA(Pitching!U7:U11)","v":2},{"$f":"COUNTA(Pitching!V7:V11)","v":0},null,{"$f":"IF(ISERROR(7*G7/C7),\"-\",7*G7/C7)","v":8.2727272727272734},{"$f":"IF(ISERROR(L7/C7),0,L7/C7)","v":1.0909090909090908},{"$f":"IF(ISERROR((M7+H7)/C7),0,(M7+H7)/C7)","v":3},{"$f":"IF(ISERROR(H7/E7),0,(H7/E7))","v":0.24390243902439024}]
[{"$f":"Pitching!A27","v":66},{"$f":"Pitching!B27","v":"Hager"},{"$f":"SUM(Pitching!D27:D31)","v":5.33},{"$f":"SUM(Pitching!E27:E31)","v":33},{"$f":"SUM(Pitching!F27:F31)","v":22},{"$f":"SUM(Pitching!G27:G31)","v":10},{"$f":"SUM(Pitching!H27:H31)","v":8},{"$f":"SUM(Pitching!I27:I31)","v":9},{"$f":"SUM(Pitching!J27:J31)","v":0},{"$f":"SUM(Pitching!K27:K31)","v":0},{"$f":"SUM(Pitching!L27:L31)","v":0},{"$f":"SUM(Pitching!M27:M31)","v":0},{"$f":"SUM(Pitching!N27:N31)","v":7},{"$f":"SUM(Pitching!O27:O31)","v":2},{"$f":"SUM(Pitching!P27:P31)","v":2},{"$f":"SUM(Pitching!Q27:Q31)","v":0},{"$f":"SUM(Pitching!R27:R31)","v":1},{"$f":"SUM(Pitching!S27:S31)","v":0},{"$f":"COUNTA(Pitching!T27:T31)","v":1},{"$f":"COUNTA(Pitching!U27:U31)","v":0},{"$f":"COUNTA(Pitching!V27:V31)","v":0},null,{"$f":"IF(ISERROR(7*G8/C8),\"-\",7*G8/C8)","v":10.506566604127579},{"$f":"IF(ISERROR(L8/C8),0,L8/C8)","v":0},{"$f":"IF(ISERROR((M8+H8)/C8),0,(M8+H8)/C8)","v":3.0018761726078798},{"$f":"IF(ISERROR(H8/E8),0,(H8/E8))","v":0.40909090909090912}]
[{"$f":"Pitching!A17","v":64},{"$f":"Pitching!B17","v":"Grieschl"},{"$f":"SUM(Pitching!D17:D21)","v":2.63},{"$f":"SUM(Pitching!E17:E21)","v":19},{"$f":"SUM(Pitching!F17:F21)","v":8},{"$f":"SUM(Pitching!G17:G21)","v":7},{"$f":"SUM(Pitching!H17:H21)","v":6},{"$f":"SUM(Pitching!I17:I21)","v":1},{"$f":"SUM(Pitching!J17:J21)","v":0},{"$f":"SUM(Pitching!K17:K21)","v":1},{"$f":"SUM(Pitching!L17:L21)","v":0},{"$f":"SUM(Pitching!M17:M21)","v":1},{"$f":"SUM(Pitching!N17:N21)","v":10},{"$f":"SUM(Pitching!O17:O21)","v":0},{"$f":"SUM(Pitching!P17:P21)","v":0},{"$f":"SUM(Pitching!Q17:Q21)","v":0},{"$f":"SUM(Pitching!R17:R21)","v":3},{"$f":"SUM(Pitching!S17:S21)","v":0},{"$f":"COUNTA(Pitching!T17:T21)","v":0},{"$f":"COUNTA(Pitching!U17:U21)","v":0},{"$f":"COUNTA(Pitching!V17:V21)","v":0},null,{"$f":"IF(ISERROR(7*G9/C9),\"-\",7*G9/C9)","v":15.96958174904943},{"$f":"IF(ISERROR(L9/C9),0,L9/C9)","v":0.38022813688212931},{"$f":"IF(ISERROR((M9+H9)/C9),0,(M9+H9)/C9)","v":4.1825095057034218},{"$f":"IF(ISERROR(H9/E9),0,(H9/E9))","v":0.125}]
[{"$f":"Pitching!A37","v":68},{"$f":"Pitching!B37","v":"Parpart"},{"$f":"SUM(Pitching!D37:D41)","v":2},{"$f":"SUM(Pitching!D37:D41)","v":2},{"$f":"SUM(Pitching!E37:E41)","v":17},{"$f":"SUM(Pitching!F37:F41)","v":7},{"$f":"SUM(Pitching!G37:G41)","v":6},{"$f":"SUM(Pitching!H37:H41)","v":4},{"$f":"SUM(Pitching!I37:I41)","v":1},{"$f":"SUM(Pitching!J37:J41)","v":0},{"$f":"SUM(Pitching!K37:K41)","v":0},{"$f":"SUM(Pitching!L37:L41)","v":0},{"$f":"SUM(Pitching!M37:M41)","v":1},{"$f":"SUM(Pitching!N37:N41)","v":7},{"$f":"SUM(Pitching!O37:O41)","v":0},{"$f":"SUM(Pitching!P37:P41)","v":3},{"$f":"SUM(Pitching!Q37:Q41)","v":0},{"$f":"SUM(Pitching!R37:R41)","v":1},{"$f":"COUNTA(Pitching!T37:T41)","v":0},{"$f":"COUNTA(Pitching!U37:U41)","v":1},{"$f":"COUNTA(Pitching!V37:V41)","v":0},null,{"$f":"IF(ISERROR(7*G10/C10),\"-\",7*G10/C10)","v":21},{"$f":"IF(ISERROR(L10/C10),0,L10/C10)","v":0},{"$f":"IF(ISERROR((M10+H10)/C10),0,(M10+H10)/C10)","v":2.5},{"$f":"IF(ISERROR(H10/E10),0,(H10/E10))","v":0.23529411764705882}]
[{"$f":"Pitching!A47","v":70},{"$f":"Pitching!B47","v":"Dirschl"},{"$f":"SUM(Pitching!D47:D51)","v":0},{"$f":"SUM(Pitching!E47:E51)","v":4},{"$f":"SUM(Pitching!F47:F51)","v":2},{"$f":"SUM(Pitching!G47:G51)","v":4},{"$f":"SUM(Pitching!H47:H51)","v":4},{"$f":"SUM(Pitching!I47:I51)","v":2},{"$f":"SUM(Pitching!J47:J51)","v":0},{"$f":"SUM(Pitching!K47:K51)","v":0},{"$f":"SUM(Pitching!L47:L51)","v":0},{"$f":"SUM(Pitching!M47:M51)","v":0},{"$f":"SUM(Pitching!N47:N51)","v":2},{"$f":"SUM(Pitching!O47:O51)","v":0},{"$f":"SUM(Pitching!P47:P51)","v":0},{"$f":"SUM(Pitching!Q47:Q51)","v":0},{"$f":"SUM(Pitching!R47:R51)","v":2},{"$f":"SUM(Pitching!S47:S51)","v":0},{"$f":"COUNTA(Pitching!T47:T51)","v":0},{"$f":"COUNTA(Pitching!U47:U51)","v":0},{"$f":"COUNTA(Pitching!V47:V51)","v":0},null,{"$f":"IF(ISERROR(7*G11/C11),\"-\",7*G11/C11)","v":"-"},{"$f":"IF(ISERROR(L11/C11),0,L11/C11)","v":0},{"$f":"IF(ISERROR((M11+H11)/C11),0,(M11+H11)/C11)","v":0},{"$f":"IF(ISERROR(H11/E11),0,(H11/E11))","v":1}]
[{"$f":"Pitching!A32","v":67},{"$f":"Pitching!B32","v":"Rauprich"},{"$f":"SUM(Pitching!D32:D36)","v":0},{"$f":"SUM(Pitching!E32:E36)","v":4},{"$f":"SUM(Pitching!F32:F36)","v":1},{"$f":"SUM(Pitching!G32:G36)","v":2},{"$f":"SUM(Pitching!H32:H36)","v":2},{"$f":"SUM(Pitching!I32:I36)","v":1},{"$f":"SUM(Pitching!J32:J36)","v":0},{"$f":"SUM(Pitching!K32:K36)","v":0},{"$f":"SUM(Pitching!L32:L36)","v":0},{"$f":"SUM(Pitching!M32:M36)","v":0},{"$f":"SUM(Pitching!N32:N36)","v":3},{"$f":"SUM(Pitching!O32:O36)","v":0},{"$f":"SUM(Pitching!P32:P36)","v":0},{"$f":"SUM(Pitching!Q32:Q36)","v":0},{"$f":"SUM(Pitching!R32:R36)","v":0},{"$f":"SUM(Pitching!S32:S36)","v":0},{"$f":"COUNTA(Pitching!T32:T36)","v":0},{"$f":"COUNTA(Pitching!U32:U36)","v":0},{"$f":"COUNTA(Pitching!V32:V36)","v":0},null,{"$f":"IF(ISERROR(7*G12/C12),\"-\",7*G12/C12)","v":"-"},{"$f":"IF(ISERROR(L12/C12),0,L12/C12)","v":0},{"$f":"IF(ISERROR((M12+H12)/C12),0,(M12+H12)/C12)","v":0},{"$f":"IF(ISERROR(H12/E12),0,(H12/E12))","v":1}]
[{"$f":"Pitching!A52","v":71},{"$f":"Pitching!B52","v":0},{"$f":"SUM(Pitching!D52:D56)","v":0},{"$f":"SUM(Pitching!E52:E56)","v":0},{"$f":"SUM(Pitching!F52:F56)","v":0},{"$f":"SUM(Pitching!G52:G56)","v":0},{"$f":"SUM(Pitching!H52:H56)","v":0},{"$f":"SUM(Pitching!I52:I56)","v":0},{"$f":"SUM(Pitching!J52:J56)","v":0},{"$f":"SUM(Pitching!K52:K56)","v":0},{"$f":"SUM(Pitching!L52:L56)","v":0},{"$f":"SUM(Pitching!M52:M56)","v":0},{"$f":"SUM(Pitching!N52:N56)","v":0},{"$f":"SUM(Pitching!O52:O56)","v":0},{"$f":"SUM(Pitching!P52:P56)","v":0},{"$f":"SUM(Pitching!Q52:Q56)","v":0},{"$f":"SUM(Pitching!R52:R56)","v":0},{"$f":"SUM(Pitching!S52:S56)","v":0},{"$f":"COUNTA(Pitching!T52:T56)","v":0},{"$f":"COUNTA(Pitching!U52:U56)","v":0},{"$f":"COUNTA(Pitching!V52:V56)","v":0},null,{"$f":"IF(ISERROR(7*G13/C13),\"-\",7*G13/C13)","v":"-"},{"$f":"IF(ISERROR(L13/C13),0,L13/C13)","v":0},{"$f":"IF(ISERROR((M13+H13)/C13),0,(M13+H13)/C13)","v":0},{"$f":"IF(ISERROR(H13/E13),0,(H13/E13))","v":0}]
[{"$f":"Pitching!A57","v":72},{"$f":"Pitching!B57","v":0},{"$f":"SUM(Pitching!D57:D61)","v":0},{"$f":"SUM(Pitching!E57:E61)","v":0},{"$f":"SUM(Pitching!F57:F61)","v":0},{"$f":"SUM(Pitching!G57:G61)","v":0},{"$f":"SUM(Pitching!H57:H61)","v":0},{"$f":"SUM(Pitching!I57:I61)","v":0},{"$f":"SUM(Pitching!J57:J61)","v":0},{"$f":"SUM(Pitching!K57:K61)","v":0},{"$f":"SUM(Pitching!L57:L61)","v":0},{"$f":"SUM(Pitching!M57:M61)","v":0},{"$f":"SUM(Pitching!N57:N61)","v":0},{"$f":"SUM(Pitching!O57:O61)","v":0},{"$f":"SUM(Pitching!P57:P61)","v":0},{"$f":"SUM(Pitching!Q57:Q61)","v":0},{"$f":"SUM(Pitching!R57:R61)","v":0},{"$f":"SUM(Pitching!S57:S61)","v":0},{"$f":"COUNTA(Pitching!T57:T61)","v":0},{"$f":"COUNTA(Pitching!U57:U61)","v":0},{"$f":"COUNTA(Pitching!V57:V61)","v":0},null,{"$f":"IF(ISERROR(7*G14/C14),\"-\",7*G14/C14)","v":"-"},{"$f":"IF(ISERROR(L14/C14),0,L14/C14)","v":0},{"$f":"IF(ISERROR((M14+H14)/C14),0,(M14+H14)/C14)","v":0},{"$f":"IF(ISERROR(H14/E14),0,(H14/E14))","v":0}]
[{"$f":"Pitching!A62","v":73},{"$f":"Pitching!B62","v":0},{"$f":"SUM(Pitching!D62:D66)","v":0},{"$f":"SUM(Pitching!E62:E66)","v":0},{"$f":"SUM(Pitching!F62:F66)","v":0},{"$f":"SUM(Pitching!G62:G66)","v":0},{"$f":"SUM(Pitching!H62:H66)","v":0},{"$f":"SUM(Pitching!I62:I66)","v":0},{"$f":"SUM(Pitching!J62:J66)","v":0},{"$f":"SUM(Pitching!K62:K66)","v":0},{"$f":"SUM(Pitching!L62:L66)","v":0},{"$f":"SUM(Pitching!M62:M66)","v":0},{"$f":"SUM(Pitching!N62:N66)","v":0},{"$f":"SUM(Pitching!O62:O66)","v":0},{"$f":"SUM(Pitching!P62:P66)","v":0},{"$f":"SUM(Pitching!Q62:Q66)","v":0},{"$f":"SUM(Pitching!R62:R66)","v":0},{"$f":"SUM(Pitching!S62:S66)","v":0},{"$f":"COUNTA(Pitching!T62:T66)","v":0},{"$f":"COUNTA(Pitching!U62:U66)","v":0},{"$f":"COUNTA(Pitching!V62:V66)","v":0},null,{"$f":"IF(ISERROR(7*G15/C15),\"-\",7*G15/C15)","v":"-"},{"$f":"IF(ISERROR(L15/C15),0,L15/C15)","v":0},{"$f":"IF(ISERROR((M15+H15)/C15),0,(M15+H15)/C15)","v":0},{"$f":"IF(ISERROR(H15/E15),0,(H15/E15))","v":0}]
[{"$f":"Pitching!A67","v":74},{"$f":"Pitching!B67","v":0},{"$f":"SUM(Pitching!D67:D71)","v":0},{"$f":"SUM(Pitching!E67:E71)","v":0},{"$f":"SUM(Pitching!F67:F71)","v":0},{"$f":"SUM(Pitching!G67:G71)","v":0},{"$f":"SUM(Pitching!H67:H71)","v":0},{"$f":"SUM(Pitching!I67:I71)","v":0},{"$f":"SUM(Pitching!J67:J71)","v":0},{"$f":"SUM(Pitching!K67:K71)","v":0},{"$f":"SUM(Pitching!L67:L71)","v":0},{"$f":"SUM(Pitching!M67:M71)","v":0},{"$f":"SUM(Pitching!N67:N71)","v":0},{"$f":"SUM(Pitching!O67:O71)","v":0},{"$f":"SUM(Pitching!P67:P71)","v":0},{"$f":"SUM(Pitching!Q67:Q71)","v":0},{"$f":"SUM(Pitching!R67:R71)","v":0},{"$f":"SUM(Pitching!S67:S71)","v":0},{"$f":"COUNTA(Pitching!T67:T71)","v":0},{"$f":"COUNTA(Pitching!U67:U71)","v":0},{"$f":"COUNTA(Pitching!V67:V71)","v":0},null,{"$f":"IF(ISERROR(7*G16/C16),\"-\",7*G16/C16)","v":"-"},{"$f":"IF(ISERROR(L16/C16),0,L16/C16)","v":0},{"$f":"IF(ISERROR((M16+H16)/C16),0,(M16+H16)/C16)","v":0},{"$f":"IF(ISERROR(H16/E16),0,(H16/E16))","v":0}]
[{"$f":"Pitching!A72","v":75},{"$f":"Pitching!B72","v":0},{"$f":"SUM(Pitching!D72:D76)","v":0},{"$f":"SUM(Pitching!E72:E76)","v":0},{"$f":"SUM(Pitching!F72:F76)","v":0},{"$f":"SUM(Pitching!G72:G76)","v":0},{"$f":"SUM(Pitching!H72:H76)","v":0},{"$f":"SUM(Pitching!I72:I76)","v":0},{"$f":"SUM(Pitching!J72:J76)","v":0},{"$f":"SUM(Pitching!K72:K76)","v":0},{"$f":"SUM(Pitching!L72:L76)","v":0},{"$f":"SUM(Pitching!M72:M76)","v":0},{"$f":"SUM(Pitching!N72:N76)","v":0},{"$f":"SUM(Pitching!O72:O76)","v":0},{"$f":"SUM(Pitching!P72:P76)","v":0},{"$f":"SUM(Pitching!Q72:Q76)","v":0},{"$f":"SUM(Pitching!R72:R76)","v":0},{"$f":"SUM(Pitching!S72:S76)","v":0},{"$f":"COUNTA(Pitching!T72:T76)","v":0},{"$f":"COUNTA(Pitching!U72:U76)","v":0},{"$f":"COUNTA(Pitching!V72:V76)","v":0},null,{"$f":"IF(ISERROR(7*G17/C17),\"-\",7*G17/C17)","v":"-"},{"$f":"IF(ISERROR(L17/C17),0,L17/C17)","v":0},{"$f":"IF(ISERROR((M17+H17)/C17),0,(M17+H17)/C17)","v":0},{"$f":"IF(ISERROR(H17/E17),0,(H17/E17))","v":0}]